Workbook

Sheet Orkly Ducklingz
A1: Cumulative Dice Rolls for season 3 | B1: Orkly Ducklingz
A2: D6
A3: Match Vs | B3: I | C3: II | D3: III | E3: IV | F3: V | G3: VI | M3: Totaal Dice Rolled Per Match
A4: Pinewood Carrions | B4: 4 | C4: 7 | D4: 12 | E4: 10 | F4: 3 | G4: 9 | M4: =SUM(B4:G4) -> 45
A5: Team Shrek | B5: 2 | C5: 5 | D5: 8 | E5: 1 | F5: 3 | G5: 2 | M5: =SUM(B5:G5) -> 21
A6: SuchDodge | B6: 11 | C6: 9 | D6: 10 | E6: 6 | F6: 7 | G6: 6 | M6: =SUM(B6:G6) -> 49
A7: Da Zoggin Gitz | B7: 4 | C7: 2 | D7: 7 | E7: 2 | F7: 7 | G7: 6 | M7: =SUM(B7:G7) -> 28
A8: Larger & Lime | B8: 1 | C8: 4 | D8: 4 | E8: 3 | F8: 7 | G8: 3 | M8: =SUM(B8:G8) -> 22
A9: Weird Outcasts | B9: 7 | C9: 12 | D9: 5 | E9: 5 | F9: 6 | G9: 3 | M9: =SUM(B9:G9) -> 38
A10: Mighty UnderCheesers | B10: 5 | C10: 5 | D10: 6 | E10: 5 | F10: 1 | G10: 4 | M10: =SUM(B10:G10) -> 26
A11: Cangurus | B11: 2 | C11: 3 | D11: 4 | E11: 2 | F11: 7 | G11: 3 | M11: =SUM(B11:G11) -> 21
A12: TOTAALS | B12: =SUM(B4:B11) -> 36 | C12: =SUM(C4:C11) -> 47 | D12: =SUM(D4:D11) -> 56 | E12: =SUM(E4:E11) -> 34 | F12: =SUM(F4:F11) -> 41 | G12: =SUM(G4:G11) -> 36 | M12: =SUM(B12:G12) -> 250
A13: % | B13: =(B12/$M12)*100 -> 14.4 | C13: =(C12/$M12)*100 -> 18.8 | D13: =(D12/$M12)*100 -> 22.4 | E13: =(E12/$M12)*100 -> 13.6 | F13: =(F12/$M12)*100 -> 16.4 | G13: =(G12/$M12)*100 -> 14.4 | M13: =((B12*1)+(C12*2)+(D12*3)+E12*4+(F12*5)+(G12*6)) -> 855
A15: 2D6
A16: Match Vs | B16: II | C16: III | D16: IV | E16: V | F16: VI | G16: VII | H16: VIII | I16: IX | J16: X | K16: XI | L16: XII | M16: Totaal Dice Rolled Per Match
A17: Pinewood Carrions | B17: 1 | C17: 3 | D17: 3 | E17: 3 | F17: 6 | G17: 3 | H17: 8 | I17: 4 | J17: 3 | K17: 2 | L17: 3 | M17: =SUM(B17:L17) -> 39
A18: Team Shrek | B18: 1 | C18: 2 | D18: 2 | E18: 3 | F18: 5 | G18: 8 | H18: 5 | I18: 5 | J18: 3 | K18: 1 | L18: 4 | M18: =SUM(B18:L18) -> 39
A19: SuchDodge | B19: 1 | C19: 0 | D19: 1 | E19: 6 | F19: 4 | G19: 4 | H19: 2 | I19: 2 | J19: 0 | K19: 0 | L19: 0 | M19: =SUM(B19:L19) -> 20
A20: Da Zoggin Gitz | B20: 1 | C20: 2 | D20: 3 | E20: 6 | F20: 12 | G20: 5 | H20: 7 | I20: 2 | J20: 2 | K20: 3 | L20: 5 | M20: =SUM(B20:L20) -> 48
A21: Larger & Lime | B21: 3 | C21: 5 | D21: 4 | E21: 6 | F21: 4 | G21: 8 | H21: 6 | I21: 5 | J21: 2 | K21: 3 | L21: 5 | M21: =SUM(B21:L21) -> 51
A22: Weird Outcasts | B22: 1 | C22: 4 | D22: 4 | E22: 3 | F22: 2 | G22: 4 | H22: 5 | I22: 3 | J22: 1 | K22: 1 | L22: 0 | M22: =SUM(B22:L22) -> 28
A23: Mighty UnderCheesers | B23: 1 | C23: 1 | D23: 5 | E23: 2 | F23: 4 | G23: 8 | H23: 8 | I23: 4 | J23: 3 | K23: 2 | L23: 2 | M23: =SUM(B23:L23) -> 40
A24: Cangurus | B24: 0 | C24: 2 | D24: 3 | E24: 8 | F24: 7 | G24: 9 | H24: 7 | I24: 5 | J24: 6 | K24: 2 | L24: 1 | M24: =SUM(B24:L24) -> 50
A25: TOTAALS | B25: =SUM(B17:B24) -> 9 | C25: =SUM(C17:C24) -> 19 | D25: =SUM(D17:D24) -> 25 | E25: =SUM(E17:E24) -> 37 | F25: =SUM(F17:F24) -> 44 | G25: =SUM(G17:G24) -> 49 | H25: =SUM(H17:H24) -> 48 | I25: =SUM(I17:I24) -> 30 | ... L25: =SUM(L17:L24) -> 20 | M25: =SUM(B25:L25) -> 315
A26: % | B26: =(B25/$M25)*100 -> 2.8571429 | C26: =(C25/$M25)*100 -> 6.031746 | D26: =(D25/$M25)*100 -> 7.9365079 | E26: =(E25/$M25)*100 -> 11.746032 | F26: =(F25/$M25)*100 -> 13.968254 | G26: =(G25/$M25)*100 -> 15.555556 | H26: =(H25/$M25)*100 -> 15.238095 | I26: =(I25/$M25)*100 -> 9.5238095 | ... L26: =(L25/$M25)*100 -> 6.3492063 | M26: =2*B25+3*C25+4*D25+5*E25+6*F25+7*G25+8*H25+9*I25+10*J25+11*K25+12*L25 -> 2215
A28: Block Dice
A29: Match Vs | B29: Skull | C29: Both Down | D29: Push | E29: Push | F29: Pow/push | G29: POW | M29: Totaal Dice Rolled Per Match
A30: Pinewood Carrions | B30: 10 | C30: 14 | D30: 10 | E30: 9 | F30: 8 | G30: 10 | M30: =SUM(B30:G30) -> 61
A31: Team Shrek | B31: 14 | C31: 16 | D31: 12 | E31: 11 | F31: 12 | G31: 11 | M31: =SUM(B31:G31) -> 76
A32: SuchDodge | B32: 19 | C32: 14 | D32: 15 | E32: 15 | F32: 10 | G32: 11 | M32: =SUM(B32:G32) -> 84
A33: Da Zoggin Gitz | B33: 7 | C33: 14 | D33: 21 | E33: 20 | F33: 10 | G33: 12 | M33: =SUM(B33:G33) -> 84
A34: Larger & Lime | B34: 13 | C34: 20 | D34: 14 | E34: 13 | F34: 12 | G34: 12 | M34: =SUM(B34:G34) -> 84
A35: Weird Outcasts | B35: 13 | C35: 9 | D35: 12 | E35: 12 | F35: 7 | G35: 10 | M35: =SUM(B35:G35) -> 63
A36: Mighty UnderCheesers | B36: 21 | C36: 16 | D36: 18 | E36: 18 | F36: 22 | G36: 12 | M36: =SUM(B36:G36) -> 107
A37: Cangurus | B37: 18 | C37: 13 | D37: 14 | E37: 14 | F37: 13 | G37: 16 | M37: =SUM(B37:G37) -> 88
A38: TOTAALS | B38: =SUM(B30:B37) -> 115 | C38: =SUM(C30:C37) -> 116 | D38: =SUM(D30:D37) -> 116 | E38: =SUM(E30:E37) -> 112 | F38: =SUM(F30:F37) -> 94 | G38: =SUM(G30:G37) -> 94 | M38: =SUM(B38:G38) -> 647
A39: % | B39: =(B38/$M38)*100 -> 17.774343 | C39: =(C38/$M38)*100 -> 17.928903 | D39: =(D38/$M38)*100 -> 17.928903 | E39: =(E38/$M38)*100 -> 17.310665 | F39: =(F38/$M38)*100 -> 14.528594 | G39: =(G38/$M38)*100 -> 14.528594 | M39: =((B38*1)+(C38*2)+(D38*3)+E38*4+(F38*5)+(G38*6)) -> 2177

Sheet Pinewood Carrions
A1: Cumulative Dice Rolls for season 3 | B1: Pinewood Carrions
A2: D6
A3: Match Vs | B3: I | C3: II | D3: III | E3: IV | F3: V | G3: VI | M3: Totaal Dice Rolled Per Match | N3: Combined With Opponent
A4: OrklyDucklingz | B4: 2 | C4: 4 | D4: 2 | E4: 6 | F4: 5 | G4: 5 | M4: =SUM(B4:G4) -> 24
A5: Team Shrek | B5: 4 | C5: 1 | D5: 1 | E5: 8 | F5: 2 | G5: 6 | M5: =SUM(B5:G5) -> 22
A6: SuchDodge | B6: 2 | C6: 0 | D6: 2 | E6: 6 | F6: 6 | G6: 6 | M6: =SUM(B6:G6) -> 22
A7: Da Zoggin Gitz | B7: 1 | C7: 1 | D7: 5 | E7: 2 | F7: 6 | G7: 1 | M7: =SUM(B7:G7) -> 16
A8: Larger & Lime | B8: 6 | C8: 1 | D8: 4 | E8: 3 | F8: 7 | G8: 5 | M8: =SUM(B8:G8) -> 26
A9: Weird Outcasts | B9: 6 | C9: 3 | D9: 4 | E9: 7 | F9: 5 | G9: 3 | M9: =SUM(B9:G9) -> 28
A10: Mighty UnderCheesers | B10: 2 | C10: 2 | D10: 5 | E10: 2 | F10: 2 | G10: 2 | M10: =SUM(B10:G10) -> 15
A11: Cangurus | B11: 3 | C11: 7 | D11: 5 | E11: 6 | F11: 4 | G11: 4 | M11: =SUM(B11:G11) -> 29
A12: TOTAALS | B12: =SUM(B4:B11) -> 26 | C12: =SUM(C4:C11) -> 19 | D12: =SUM(D4:D11) -> 28 | E12: =SUM(E4:E11) -> 40 | F12: =SUM(F4:F11) -> 37 | G12: =SUM(G4:G11) -> 32 | M12: =SUM(B12:G12) -> 182
B13: =(B12/$M12)*100 -> 14.285714 | C13: =(C12/$M12)*100 -> 10.43956 | D13: =(D12/$M12)*100 -> 15.384615 | E13: =(E12/$M12)*100 -> 21.978022 | F13: =(F12/$M12)*100 -> 20.32967 | G13: =(G12/$M12)*100 -> 17.582418 | M13: =((B12*1)+(C12*2)+(D12*3)+E12*4+(F12*5)+(G12*6)) -> 685
A15: 2D6
A16: Match Vs | B16: II | C16: III | D16: IV | E16: V | F16: VI | G16: VII | H16: VIII | I16: IX | J16: X | K16: XI | L16: XII | M16: Totaal Dice Rolled Per Match | N16: Combined With Opponent
A17: OrklyDucklingz | B17: 0 | C17: 4 | D17: 1 | E17: 4 | F17: 10 | G17: 9 | H17: 8 | I17: 6 | J17: 2 | K17: 4 | L17: 2 | M17: =SUM(B17:L17) -> 50
A18: Team Shrek | B18: 1 | C18: 2 | D18: 1 | E18: 3 | F18: 6 | G18: 4 | H18: 4 | I18: 4 | J18: 5 | K18: 2 | L18: 1 | M18: =SUM(B18:L18) -> 33
A19: SuchDodge | B19: 0 | C19: 1 | D19: 2 | E19: 3 | F19: 9 | G19: 10 | H19: 9 | I19: 8 | J19: 7 | K19: 5 | L19: 0 | M19: =SUM(B19:L19) -> 54
A20: Da Zoggin Gitz | B20: 0 | C20: 5 | D20: 9 | E20: 8 | F20: 6 | G20: 9 | H20: 4 | I20: 4 | J20: 4 | K20: 2 | L20: 2 | M20: =SUM(B20:L20) -> 53
A21: Larger & Lime | B21: 1 | C21: 1 | D21: 5 | E21: 6 | F21: 5 | G21: 8 | H21: 9 | I21: 6 | J21: 4 | K21: 1 | L21: 0 | M21: =SUM(B21:L21) -> 46
A22: Weird Outcasts | B22: 1 | C22: 3 | D22: 7 | E22: 4 | F22: 1 | G22: 2 | H22: 7 | I22: 4 | J22: 2 | K22: 0 | L22: 1 | M22: =SUM(B22:L22) -> 32
A23: Mighty UnderCheesers | B23: 1 | C23: 5 | D23: 3 | E23: 6 | F23: 7 | G23: 13 | H23: 1 | I23: 6 | J23: 2 | K23: 3 | L23: 1 | M23: =SUM(B23:L23) -> 48
A24: Cangurus | B24: 2 | C24: 3 | D24: 7 | E24: 7 | F24: 4 | G24: 7 | H24: 6 | I24: 5 | J24: 3 | K24: 2 | L24: 0 | M24: =SUM(B24:L24) -> 46
A25: TOTAALS | B25: =SUM(B17:B24) -> 6 | C25: =SUM(C17:C24) -> 24 | D25: =SUM(D17:D24) -> 35 | E25: =SUM(E17:E24) -> 41 | F25: =SUM(F17:F24) -> 48 | G25: =SUM(G17:G24) -> 62 | H25: =SUM(H17:H24) -> 48 | I25: =SUM(I17:I24) -> 43 | ... L25: =SUM(L17:L24) -> 7 | M25: =SUM(B25:L25) -> 362
B26: =(B25/$M25)*100 -> 1.6574586 | C26: =(C25/$M25)*100 -> 6.6298343 | D26: =(D25/$M25)*100 -> 9.6685083 | E26: =(E25/$M25)*100 -> 11.325967 | F26: =(F25/$M25)*100 -> 13.259669 | G26: =(G25/$M25)*100 -> 17.127072 | H26: =(H25/$M25)*100 -> 13.259669 | I26: =(I25/$M25)*100 -> 11.878453 | ... L26: =(L25/$M25)*100 -> 1.9337017 | M26: =2*B25+3*C25+4*D25+5*E25+6*F25+7*G25+8*H25+9*I25+10*J25+11*K25+12*L25 -> 2505
M27: =SUM(B27:L27) -> 0
A28: Block Dice | M28: =SUM(B28:L28) -> 0
A29: Match Vs | B29: Skull | C29: Both Down | D29: Push | E29: Push | F29: Pow/push | G29: POW | M29: Totaal Dice Rolled Per Match | N29: Combined With Opponent
A30: OrklyDucklingz | B30: 12 | C30: 18 | D30: 14 | E30: 13 | F30: 16 | G30: 17 | M30: =SUM(B30:G30) -> 90
A31: Team Shrek | B31: 13 | C31: 8 | D31: 13 | E31: 13 | F31: 10 | G31: 10 | M31: =SUM(B31:G31) -> 67
A32: SuchDodge | B32: 11 | C32: 10 | D32: 8 | E32: 8 | F32: 12 | G32: 11 | M32: =SUM(B32:G32) -> 60
A33: Da Zoggin Gitz | B33: 14 | C33: 28 | D33: 16 | E33: 15 | F33: 18 | G33: 15 | M33: =SUM(B33:G33) -> 106
A34: Larger & Lime | B34: 20 | C34: 18 | D34: 11 | E34: 10 | F34: 13 | G34: 14 | M34: =SUM(B34:G34) -> 86
A35: Weird Outcasts | B35: 17 | C35: 17 | D35: 17 | E35: 17 | F35: 10 | G35: 11 | M35: =SUM(B35:G35) -> 89
A36: Mighty UnderCheesers | B36: 20 | C36: 19 | D36: 16 | E36: 16 | F36: 20 | G36: 19 | M36: =SUM(B36:G36) -> 110
A37: Cangurus | B37: 16 | C37: 10 | D37: 13 | E37: 13 | F37: 13 | G37: 10 | M37: =SUM(B37:G37) -> 75
A38: TOTAALS | B38: =SUM(B30:B37) -> 123 | C38: =SUM(C30:C37) -> 128 | D38: =SUM(D30:D37) -> 108 | E38: =SUM(E30:E37) -> 105 | F38: =SUM(F30:F37) -> 112 | G38: =SUM(G30:G37) -> 107 | M38: =SUM(B38:G38) -> 683
B39: =(B38/$M38)*100 -> 18.008785 | C39: =(C38/$M38)*100 -> 18.740849 | D39: =(D38/$M38)*100 -> 15.812592 | E39: =(E38/$M38)*100 -> 15.373353 | F39: =(F38/$M38)*100 -> 16.398243 | G39: =(G38/$M38)*100 -> 15.666179 | M39: =((B38*1)+(C38*2)+(D38*3)+E38*4+(F38*5)+(G38*6)) -> 2325

Sheet Team Shrek
A1: Cumulative Dice Rolls for season 3 | B1: Team Shrek
A2: D6
A3: Match Vs | B3: I | C3: II | D3: III | E3: IV | F3: V | G3: VI | M3: Totaal Dice Rolled Per Match | N3: Combined With Opponent
A4: Pinewood Carrions | B4: 20 | C4: 20 | D4: 14 | E4: 16 | F4: 17 | G4: 16 | M4: =SUM(B4:G4) -> 103
A5: Orkly Ducklingz | B5: 18 | C5: 10 | D5: 8 | E5: 13 | F5: 11 | G5: 17 | M5: =SUM(B5:G5) -> 77
A6: SuchDodge | B6: 21 | C6: 24 | D6: 16 | E6: 24 | F6: 13 | G6: 18 | M6: =SUM(B6:G6) -> 116
A7: Da Zoggin Gitz | B7: 25 | C7: 15 | D7: 17 | E7: 16 | F7: 13 | G7: 16 | M7: =SUM(B7:G7) -> 102
A8: Larger & Lime | B8: 16 | C8: 23 | D8: 11 | E8: 21 | F8: 23 | G8: 16 | M8: =SUM(B8:G8) -> 110
A9: Weird Outcasts | B9: 18 | C9: 24 | D9: 27 | E9: 20 | F9: 21 | G9: 20 | M9: =SUM(B9:G9) -> 130
A10: Mighty UnderCheesers | B10: 18 | C10: 15 | D10: 21 | E10: 16 | F10: 20 | G10: 19 | M10: =SUM(B10:G10) -> 109
A11: Cangurus | B11: 21 | C11: 12 | D11: 21 | E11: 17 | F11: 18 | G11: 7 | M11: =SUM(B11:G11) -> 96
A12: TOTAALS | B12: =SUM(B3:B11) -> 157 | C12: =SUM(C3:C11) -> 143 | D12: =SUM(D3:D11) -> 135 | E12: =SUM(E3:E11) -> 143 | F12: =SUM(F3:F11) -> 136 | G12: =SUM(G3:G11) -> 129 | M12: =SUM(B12:G12) -> 843
B13: =(B12/$M12)*100 -> 18.623962 | C13: =(C12/$M12)*100 -> 16.963227 | D13: =(D12/$M12)*100 -> 16.014235 | E13: =(E12/$M12)*100 -> 16.963227 | F13: =(F12/$M12)*100 -> 16.132859 | G13: =(G12/$M12)*100 -> 15.302491 | M13: =((B12*1)+(C12*2)+(D12*3)+E12*4+(F12*5)+(G12*6)) -> 2874
A15: 2D6
A16: Match Vs | B16: II | C16: III | D16: IV | E16: V | F16: VI | G16: VII | H16: VIII | I16: IX | J16: X | K16: XI | L16: XII | M16: Totaal Dice Rolled Per Match | N16: Combined With Opponent
A17: Pinewood Carrions | B17: 5 | C17: 1 | D17: 0 | E17: 1 | F17: 3 | G17: 11 | H17: 2 | I17: 4 | J17: 7 | K17: 1 | L17: 0 | M17: =SUM(B17:L17) -> 35
A18: Orkly Ducklingz | B18: 1 | C18: 1 | D18: 2 | E18: 3 | F18: 3 | G18: 1 | H18: 4 | I18: 4 | J18: 5 | K18: 2 | L18: 1 | M18: =SUM(B18:L18) -> 27
A19: SuchDodge | B19: 1 | C19: 1 | D19: 1 | E19: 4 | F19: 1 | G19: 1 | H19: 3 | I19: 2 | J19: 1 | K19: 2 | L19: 3 | M19: =SUM(B19:L19) -> 20
A20: Da Zoggin Gitz | B20: 1 | C20: 6 | D20: 2 | E20: 2 | F20: 0 | G20: 4 | H20: 3 | I20: 8 | J20: 1 | K20: 1 | L20: 1 | M20: =SUM(B20:L20) -> 29
A21: Larger & Lime | B21: 1 | C21: 3 | D21: 5 | E21: 5 | F21: 9 | G21: 7 | H21: 5 | I21: 6 | J21: 3 | K21: 3 | L21: 2 | M21: =SUM(B21:L21) -> 49
A22: Weird Outcasts | B22: 0 | C22: 2 | D22: 1 | E22: 7 | F22: 3 | G22: 4 | H22: 5 | I22: 1 | J22: 1 | K22: 0 | L22: 0 | M22: =SUM(B22:L22) -> 24
A23: Mighty UnderCheesers | B23: 2 | C23: 3 | D23: 7 | E23: 2 | F23: 4 | G23: 7 | H23: 11 | I23: 1 | J23: 2 | K23: 3 | L23: 2 | M23: =SUM(B23:L23) -> 44
A24: Cangurus | B24: 2 | C24: 0 | D24: 3 | E24: 0 | F24: 4 | G24: 6 | H24: 7 | I24: 3 | J24: 2 | K24: 2 | L24: 0 | M24: =SUM(B24:L24) -> 29
A25: TOTAALS | B25: =SUM(B17:B24) -> 13 | C25: =SUM(C17:C24) -> 17 | D25: =SUM(D17:D24) -> 21 | E25: =SUM(E17:E24) -> 24 | F25: =SUM(F17:F24) -> 27 | G25: =SUM(G17:G24) -> 41 | H25: =SUM(H17:H24) -> 40 | I25: =SUM(I17:I24) -> 29 | ... L25: =SUM(L17:L24) -> 9 | M25: =SUM(B25:L25) -> 257
B26: =(B25/$M25)*100 -> 5.0583658 | C26: =(C25/$M25)*100 -> 6.614786 | D26: =(D25/$M25)*100 -> 8.1712062 | E26: =(E25/$M25)*100 -> 9.3385214 | F26: =(F25/$M25)*100 -> 10.505837 | G26: =(G25/$M25)*100 -> 15.953307 | H26: =(H25/$M25)*100 -> 15.564202 | I26: =(I25/$M25)*100 -> 11.284047 | ... L26: =(L25/$M25)*100 -> 3.5019455 | M26: =2*B25+3*C25+4*D25+5*E25+6*F25+7*G25+8*H25+9*I25+10*J25+11*K25+12*L25 -> 1793
A28: Block Dice
A29: Match Vs | B29: Skull | C29: Both Down | D29: Push | E29: Push | F29: Pow/push | G29: POW | M29: Totaal Dice Rolled Per Match | N29: Combined With Opponent
A30: Pinewood Carrions | B30: 13 | C30: 15 | D30: 13 | E30: 13 | F30: 12 | G30: 7 | M30: =SUM(B30:G30) -> 73
A31: Orkly Ducklingz | B31: 11 | C31: 11 | D31: 9 | E31: 8 | F31: 13 | G31: 10 | M31: =SUM(B31:G31) -> 62
A32: SuchDodge | B32: 14 | C32: 14 | D32: 14 | E32: 14 | F32: 12 | G32: 11 | M32: =SUM(B32:G32) -> 79
A33: Da Zoggin Gitz | B33: 10 | C33: 8 | D33: 15 | E33: 15 | F33: 8 | G33: 15 | M33: =SUM(B33:G33) -> 71
A34: Larger & Lime | B34: 17 | C34: 14 | D34: 12 | E34: 12 | F34: 18 | G34: 13 | M34: =SUM(B34:G34) -> 86
A35: Weird Outcasts | B35: 12 | C35: 10 | D35: 12 | E35: 11 | F35: 6 | G35: 19 | M35: =SUM(B35:G35) -> 70
A36: Mighty UnderCheesers | B36: 16 | C36: 14 | D36: 14 | E36: 13 | F36: 18 | G36: 20 | M36: =SUM(B36:G36) -> 95
A37: Cangurus | B37: 12 | C37: 12 | D37: 7 | E37: 7 | F37: 6 | G37: 9 | M37: =SUM(B37:G37) -> 53
A38: TOTAALS | B38: =SUM(B30:B37) -> 105 | C38: =SUM(C30:C37) -> 98 | D38: =SUM(D30:D37) -> 96 | E38: =SUM(E30:E37) -> 93 | F38: =SUM(F30:F37) -> 93 | G38: =SUM(G30:G37) -> 104 | M38: =SUM(B38:G38) -> 589
B39: =(B38/$M38)*100 -> 17.826825 | C39: =(C38/$M38)*100 -> 16.63837 | D39: =(D38/$M38)*100 -> 16.298812 | E39: =(E38/$M38)*100 -> 15.789474 | F39: =(F38/$M38)*100 -> 15.789474 | G39: =(G38/$M38)*100 -> 17.657046 | M39: =((B38*1)+(C38*2)+(D38*3)+E38*4+(F38*5)+(G38*6)) -> 2050

Sheet SuchDodge
A1: Cumulative Dice Rolls for season 3 | B1: SuchDodge
A2: D6
A3: Match Vs | B3: I | C3: II | D3: III | E3: IV | F3: V | G3: VI | M3: Totaal Dice Rolled Per Match | N3: Combined With Opponent
A4: Pinewood Carrions | B4: 16 | C4: 6 | D4: 17 | E4: 8 | F4: 13 | G4: 10 | M4: =SUM(B4:G4) -> 70
A5: Team Shrek | B5: 6 | C5: 6 | D5: 11 | E5: 15 | F5: 13 | G5: 9 | M5: =SUM(B5:G5) -> 60
A6: Orkly Ducklingz | B6: 9 | C6: 15 | D6: 8 | E6: 11 | F6: 9 | G6: 12 | M6: =SUM(B6:G6) -> 64
A7: Da Zoggin Gitz | B7: 7 | C7: 7 | D7: 6 | E7: 4 | F7: 11 | G7: 7 | M7: =SUM(B7:G7) -> 42
A8: Larger & Lime | B8: 5 | C8: 7 | D8: 7 | E8: 7 | F8: 3 | G8: 5 | M8: =SUM(B8:G8) -> 34
A9: Weird Outcasts | B9: 15 | C9: 12 | D9: 8 | E9: 9 | F9: 15 | G9: 16 | M9: =SUM(B9:G9) -> 75
A10: Mighty UnderCheesers | B10: 15 | C10: 5 | D10: 10 | E10: 10 | F10: 9 | G10: 10 | M10: =SUM(B10:G10) -> 59
A11: Cangurus | B11: 10 | C11: 5 | D11: 5 | E11: 9 | F11: 8 | G11: 4 | M11: =SUM(B11:G11) -> 41
A12: TOTAALS | B12: =SUM(B4:B11) -> 83 | C12: =SUM(C4:C11) -> 63 | D12: =SUM(D4:D11) -> 72 | E12: =SUM(E4:E11) -> 73 | F12: =SUM(F4:F11) -> 81 | G12: =SUM(G4:G11) -> 73 | M12: =SUM(B12:G12) -> 445
B13: =(B12/$M12)*100 -> 18.651685 | C13: =(C12/$M12)*100 -> 14.157303 | D13: =(D12/$M12)*100 -> 16.179775 | E13: =(E12/$M12)*100 -> 16.404494 | F13: =(F12/$M12)*100 -> 18.202247 | G13: =(G12/$M12)*100 -> 16.404494 | M13: =((B12*1)+(C12*2)+(D12*3)+E12*4+(F12*5)+(G12*6)) -> 1560
A15: 2D6
A16: Match Vs | B16: II | C16: III | D16: IV | E16: V | F16: VI | G16: VII | H16: VIII | I16: IX | J16: X | K16: XI | L16: XII | M16: Totaal Dice Rolled Per Match | N16: Combined With Opponent
A17: Pinewood Carrions | B17: 0 | C17: 1 | D17: 1 | E17: 1 | F17: 2 | G17: 4 | H17: 1 | I17: 0 | J17: 2 | K17: 0 | L17: 0 | M17: =SUM(B17:L17) -> 12
A18: Team Shrek | B18: 1 | C18: 1 | D18: 2 | E18: 5 | F18: 1 | G18: 8 | H18: 1 | I18: 0 | J18: 3 | K18: 2 | L18: 1 | M18: =SUM(B18:L18) -> 25
A19: Orkly Ducklingz | B19: 0 | C19: 2 | D19: 3 | E19: 4 | F19: 5 | G19: 4 | H19: 4 | I19: 4 | J19: 3 | K19: 2 | L19: 1 | M19: =SUM(B19:L19) -> 32
A20: Da Zoggin Gitz | B20: 0 | C20: 1 | D20: 1 | E20: 2 | F20: 4 | G20: 10 | H20: 4 | I20: 6 | J20: 1 | K20: 1 | L20: 0 | M20: =SUM(B20:L20) -> 30
A21: Larger & Lime | B21: 1 | C21: 4 | D21: 2 | E21: 7 | F21: 5 | G21: 7 | H21: 8 | I21: 2 | J21: 3 | K21: 0 | L21: 2 | M21: =SUM(B21:L21) -> 41
A22: Weird Outcasts | B22: 0 | C22: 1 | D22: 0 | E22: 5 | F22: 2 | G22: 3 | H22: 0 | I22: 2 | J22: 2 | K22: 2 | L22: 0 | M22: =SUM(B22:L22) -> 17
A23: Mighty UnderCheesers | B23: 3 | C23: 1 | D23: 1 | E23: 1 | F23: 2 | G23: 9 | H23: 8 | I23: 3 | J23: 2 | K23: 1 | L23: 1 | M23: =SUM(B23:L23) -> 32
A24: Cangurus | B24: 1 | C24: 0 | D24: 4 | E24: 4 | F24: 3 | G24: 7 | H24: 1 | I24: 2 | J24: 1 | K24: 2 | L24: 2 | M24: =SUM(B24:L24) -> 27
A25: TOTAALS | B25: =SUM(B17:B24) -> 6 | C25: =SUM(C17:C24) -> 11 | D25: =SUM(D17:D24) -> 14 | E25: =SUM(E17:E24) -> 29 | F25: =SUM(F17:F24) -> 24 | G25: =SUM(G17:G24) -> 52 | H25: =SUM(H17:H24) -> 27 | I25: =SUM(I17:I24) -> 19 | ... L25: =SUM(L17:L24) -> 7 | M25: =SUM(B25:L25) -> 216
B26: =(B25/$M25)*100 -> 2.7777778 | C26: =(C25/$M25)*100 -> 5.0925926 | D26: =(D25/$M25)*100 -> 6.4814815 | E26: =(E25/$M25)*100 -> 13.425926 | F26: =(F25/$M25)*100 -> 11.111111 | G26: =(G25/$M25)*100 -> 24.074074 | H26: =(H25/$M25)*100 -> 12.5 | I26: =(I25/$M25)*100 -> 8.7962963 | ... L26: =(L25/$M25)*100 -> 3.2407407 | M26: =2*B25+3*C25+4*D25+5*E25+6*F25+7*G25+8*H25+9*I25+10*J25+11*K25+12*L25 -> 1505
A28: Block Dice
A29: Match Vs | B29: Skull | C29: Both Down | D29: Push | E29: Push | F29: Pow/push | G29: POW | M29: Totaal Dice Rolled Per Match | N29: Combined With Opponent
A30: Pinewood Carrions | B30: 5 | C30: 1 | D30: 2 | E30: 1 | F30: 5 | G30: 4 | M30: =SUM(B30:G30) -> 18
A31: Team Shrek | B31: 5 | C31: 9 | D31: 8 | E31: 7 | F31: 6 | G31: 7 | M31: =SUM(B31:G31) -> 42
A32: Orkly Ducklingz | B32: 7 | C32: 6 | D32: 10 | E32: 9 | F32: 10 | G32: 8 | M32: =SUM(B32:G32) -> 50
A33: Da Zoggin Gitz | B33: 11 | C33: 6 | D33: 10 | E33: 9 | F33: 4 | G33: 5 | M33: =SUM(B33:G33) -> 45
A34: Larger & Lime | B34: 13 | C34: 11 | D34: 16 | E34: 15 | F34: 11 | G34: 12 | M34: =SUM(B34:G34) -> 78
A35: Weird Outcasts | B35: 6 | C35: 4 | D35: 10 | E35: 10 | F35: 8 | G35: 3 | M35: =SUM(B35:G35) -> 41
A36: Mighty UnderCheesers | B36: 13 | C36: 11 | D36: 15 | E36: 15 | F36: 11 | G36: 13 | M36: =SUM(B36:G36) -> 78
A37: Cangurus | B37: 14 | C37: 14 | D37: 11 | E37: 10 | F37: 9 | G37: 7 | M37: =SUM(B37:G37) -> 65
A38: TOTAALS | B38: =SUM(B30:B37) -> 74 | C38: =SUM(C30:C37) -> 62 | D38: =SUM(D30:D37) -> 82 | E38: =SUM(E30:E37) -> 76 | F38: =SUM(F30:F37) -> 64 | G38: =SUM(G30:G37) -> 59 | M38: =SUM(B38:G38) -> 417
B39: =(B38/$M38)*100 -> 17.745803 | C39: =(C38/$M38)*100 -> 14.868106 | D39: =(D38/$M38)*100 -> 19.664269 | E39: =(E38/$M38)*100 -> 18.22542 | F39: =(F38/$M38)*100 -> 15.347722 | G39: =(G38/$M38)*100 -> 14.148681 | M39: =((B38*1)+(C38*2)+(D38*3)+E38*4+(F38*5)+(G38*6)) -> 1422

Sheet Da Zoggin Gitz
A1: Cumulative Dice Rolls for season 3 | B1: Da Zoggin Gitz
A2: D6
A3: Match Vs | B3: I | C3: II | D3: III | E3: IV | F3: V | G3: VI | M3: Totaal Dice Rolled Per Match | N3: Combined With Opponent
A4: Pinewood Carrions | B4: 15 | C4: 21 | D4: 19 | E4: 13 | F4: 18 | G4: 20 | M4: =SUM(B4:G4) -> 106
A5: Team Shrek | B5: 6 | C5: 19 | D5: 10 | E5: 15 | F5: 18 | G5: 10 | M5: =SUM(B5:G5) -> 78
A6: SuchDodge | B6: 12 | C6: 15 | D6: 6 | E6: 9 | F6: 9 | G6: 14 | M6: =SUM(B6:G6) -> 65
A7: Orkly Ducklingz | B7: 16 | C7: 13 | D7: 17 | E7: 15 | F7: 12 | G7: 12 | M7: =SUM(B7:G7) -> 85
A8: Larger & Lime | B8: 10 | C8: 14 | D8: 10 | E8: 12 | F8: 13 | G8: 9 | M8: =SUM(B8:G8) -> 68
A9: Weird Outcasts | B9: 23 | C9: 10 | D9: 15 | E9: 13 | F9: 20 | G9: 16 | M9: =SUM(B9:G9) -> 97
A10: Mighty UnderCheesers | B10: 17 | C10: 9 | D10: 13 | E10: 11 | F10: 10 | G10: 13 | M10: =SUM(B10:G10) -> 73
A11: Cangurus | B11: 15 | C11: 17 | D11: 9 | E11: 20 | F11: 18 | G11: 9 | M11: =SUM(B11:G11) -> 88
A12: TOTAALS | B12: =SUM(B4:B11) -> 114 | C12: =SUM(C4:C11) -> 118 | D12: =SUM(D4:D11) -> 99 | E12: =SUM(E4:E11) -> 108 | F12: =SUM(F4:F11) -> 118 | G12: =SUM(G4:G11) -> 103 | M12: =SUM(B12:G12) -> 660
B13: =(B12/$M12)*100 -> 17.272727 | C13: =(C12/$M12)*100 -> 17.878788 | D13: =(D12/$M12)*100 -> 15 | E13: =(E12/$M12)*100 -> 16.363636 | F13: =(F12/$M12)*100 -> 17.878788 | G13: =(G12/$M12)*100 -> 15.606061 | M13: =((B12*1)+(C12*2)+(D12*3)+E12*4+(F12*5)+(G12*6)) -> 2287
A15: 2D6
A16: Match Vs | B16: II | C16: III | D16: IV | E16: V | F16: VI | G16: VII | H16: VIII | I16: IX | J16: X | K16: XI | L16: XII | M16: Totaal Dice Rolled Per Match | N16: Combined With Opponent
A17: Pinewood Carrions | B17: 0 | C17: 2 | D17: 6 | E17: 5 | F17: 3 | G17: 4 | H17: 3 | I17: 6 | J17: 2 | K17: 1 | L17: 0 | M17: =SUM(B17:L17) -> 32
A18: Team Shrek | B18: 0 | C18: 1 | D18: 1 | E18: 7 | F18: 7 | G18: 5 | H18: 6 | I18: 4 | J18: 3 | K18: 1 | L18: 2 | M18: =SUM(B18:L18) -> 37
A19: SuchDodge | B19: 1 | C19: 3 | D19: 3 | E19: 1 | F19: 4 | G19: 6 | H19: 6 | I19: 6 | J19: 1 | K19: 2 | L19: 0 | M19: =SUM(B19:L19) -> 33
A20: Orkly Ducklingz | B20: 0 | C20: 3 | D20: 1 | E20: 3 | F20: 3 | G20: 2 | H20: 2 | I20: 3 | J20: 1 | K20: 2 | L20: 1 | M20: =SUM(B20:L20) -> 21
A21: Larger & Lime | B21: 1 | C21: 2 | D21: 1 | E21: 8 | F21: 6 | G21: 7 | H21: 5 | I21: 6 | J21: 3 | K21: 2 | L21: 1 | M21: =SUM(B21:L21) -> 42
A22: Weird Outcasts | B22: 1 | C22: 1 | D22: 3 | E22: 4 | F22: 3 | G22: 1 | H22: 5 | I22: 3 | J22: 1 | K22: 2 | L22: 2 | M22: =SUM(B22:L22) -> 26
A23: Mighty UnderCheesers | B23: 0 | C23: 0 | D23: 1 | E23: 3 | F23: 2 | G23: 5 | H23: 3 | I23: 2 | J23: 0 | K23: 1 | L23: 1 | M23: =SUM(B23:L23) -> 18
A24: Cangurus | B24: 1 | C24: 3 | D24: 5 | E24: 4 | F24: 3 | G24: 5 | H24: 3 | I24: 3 | J24: 1 | K24: 0 | L24: 0 | M24: =SUM(B24:L24) -> 28
A25: TOTAALS | B25: =SUM(B17:B24) -> 4 | C25: =SUM(C17:C24) -> 15 | D25: =SUM(D17:D24) -> 21 | E25: =SUM(E17:E24) -> 35 | F25: =SUM(F17:F24) -> 31 | G25: =SUM(G17:G24) -> 35 | H25: =SUM(H17:H24) -> 33 | I25: =SUM(I17:I24) -> 33 | ... L25: =SUM(L17:L24) -> 7 | M25: =SUM(B25:L25) -> 237
B26: =(B25/$M25)*100 -> 1.6877637 | C26: =(C25/$M25)*100 -> 6.3291139 | D26: =(D25/$M25)*100 -> 8.8607595 | E26: =(E25/$M25)*100 -> 14.767932 | F26: =(F25/$M25)*100 -> 13.080169 | G26: =(G25/$M25)*100 -> 14.767932 | H26: =(H25/$M25)*100 -> 13.924051 | I26: =(I25/$M25)*100 -> 13.924051 | ... L26: =(L25/$M25)*100 -> 2.9535865 | M26: =2*B25+3*C25+4*D25+5*E25+6*F25+7*G25+8*H25+9*I25+10*J25+11*K25+12*L25 -> 1629
M27: =SUM(B27:L27) -> 0
A28: Block Dice
A29: Match Vs | B29: Skull | C29: Both Down | D29: Push | E29: Push | F29: Pow/push | G29: POW | M29: Totaal Dice Rolled Per Match | N29: Combined With Opponent
A30: Pinewood Carrions | B30: 4 | C30: 6 | D30: 3 | E30: 2 | F30: 7 | G30: 3 | M30: =SUM(B30:G30) -> 25
A31: Team Shrek | B31: 9 | C31: 12 | D31: 11 | E31: 10 | F31: 10 | G31: 9 | M31: =SUM(B31:G31) -> 61
A32: SuchDodge | B32: 5 | C32: 8 | D32: 5 | E32: 4 | F32: 5 | G32: 5 | M32: =SUM(B32:G32) -> 32
A33: Orkly Ducklingz | B33: 4 | C33: 7 | D33: 6 | E33: 5 | F33: 7 | G33: 6 | M33: =SUM(B33:G33) -> 35
A34: Larger & Lime | B34: 8 | C34: 8 | D34: 12 | E34: 11 | F34: 16 | G34: 13 | M34: =SUM(B34:G34) -> 68
A35: Weird Outcasts | B35: 9 | C35: 10 | D35: 6 | E35: 5 | F35: 7 | G35: 9 | M35: =SUM(B35:G35) -> 46
A36: Mighty UnderCheesers | B36: 5 | C36: 6 | D36: 8 | E36: 8 | F36: 8 | G36: 7 | M36: =SUM(B36:G36) -> 42
A37: Cangurus | B37: 7 | C37: 10 | D37: 7 | E37: 7 | F37: 9 | G37: 10 | M37: =SUM(B37:G37) -> 50
A38: TOTAALS | B38: =SUM(B30:B37) -> 51 | C38: =SUM(C30:C37) -> 67 | D38: =SUM(D30:D37) -> 58 | E38: =SUM(E30:E37) -> 52 | F38: =SUM(F30:F37) -> 69 | G38: =SUM(G30:G37) -> 62 | M38: =SUM(B38:G38) -> 359
B39: =(B38/$M38)*100 -> 14.206128 | C39: =(C38/$M38)*100 -> 18.662953 | D39: =(D38/$M38)*100 -> 16.155989 | E39: =(E38/$M38)*100 -> 14.48468 | F39: =(F38/$M38)*100 -> 19.220056 | G39: =(G38/$M38)*100 -> 17.270195 | M39: =((B38*1)+(C38*2)+(D38*3)+E38*4+(F38*5)+(G38*6)) -> 1284

Sheet Larger&Lime
A1: Cumulative Dice Rolls for season 3 | B1: Larger&Lime
A2: D6
A3: Match Vs | B3: I | C3: II | D3: III | E3: IV | F3: V | G3: VI | M3: Totaal Dice Rolled Per Match | N3: Combined With Opponent
A4: Pinewood Carrions | B4: 18 | C4: 16 | D4: 26 | E4: 16 | F4: 22 | G4: 30 | M4: =SUM(B4:G4) -> 128
A5: Team Shrek | B5: 19 | C5: 15 | D5: 21 | E5: 11 | F5: 10 | G5: 12 | M5: =SUM(B5:G5) -> 88
A6: SuchDodge | B6: 11 | C6: 13 | D6: 20 | E6: 14 | F6: 18 | G6: 18 | M6: =SUM(B6:G6) -> 94
A7: Da Zoggin Gitz | B7: 14 | C7: 17 | D7: 17 | E7: 12 | F7: 11 | G7: 19 | M7: =SUM(B7:G7) -> 90
A8: Orkly Ducklingz | B8: 16 | C8: 16 | D8: 18 | E8: 12 | F8: 15 | G8: 12 | M8: =SUM(B8:G8) -> 89
A9: Weird Outcasts | B9: 12 | C9: 12 | D9: 11 | E9: 16 | F9: 18 | G9: 16 | M9: =SUM(B9:G9) -> 85
A10: Mighty UnderCheesers | B10: 15 | C10: 16 | D10: 15 | E10: 14 | F10: 9 | G10: 16 | M10: =SUM(B10:G10) -> 85
A11: Cangurus | B11: 17 | C11: 10 | D11: 20 | E11: 14 | F11: 12 | G11: 13 | M11: =SUM(B11:G11) -> 86
A12: TOTAALS | B12: =SUM(B4:B11) -> 122 | C12: =SUM(C4:C11) -> 115 | D12: =SUM(D4:D11) -> 148 | E12: =SUM(E4:E11) -> 109 | F12: =SUM(F4:F11) -> 115 | G12: =SUM(G4:G11) -> 136 | M12: =SUM(B12:G12) -> 745
B13: =(B12/$M12)*100 -> 16.375839 | C13: =(C12/$M12)*100 -> 15.436242 | D13: =(D12/$M12)*100 -> 19.865772 | E13: =(E12/$M12)*100 -> 14.630872 | F13: =(F12/$M12)*100 -> 15.436242 | G13: =(G12/$M12)*100 -> 18.255034 | M13: =((B12*1)+(C12*2)+(D12*3)+E12*4+(F12*5)+(G12*6)) -> 2623
A15: 2D6
A16: Match Vs | B16: II | C16: III | D16: IV | E16: V | F16: VI | G16: VII | H16: VIII | I16: IX | J16: X | K16: XI | L16: XII | M16: Totaal Dice Rolled Per Match | N16: Combined With Opponent
A17: Pinewood Carrions | B17: 0 | C17: 2 | D17: 1 | E17: 3 | F17: 3 | G17: 7 | H17: 5 | I17: 2 | J17: 3 | K17: 3 | L17: 0 | M17: =SUM(B17:L17) -> 29
A18: Team Shrek | B18: 0 | C18: 1 | D18: 1 | E18: 2 | F18: 3 | G18: 3 | H18: 1 | I18: 7 | J18: 3 | K18: 0 | L18: 0 | M18: =SUM(B18:L18) -> 21
A19: SuchDodge | B19: 1 | C19: 1 | D19: 2 | E19: 1 | F19: 5 | G19: 3 | H19: 0 | I19: 1 | J19: 1 | K19: 0 | L19: 0 | M19: =SUM(B19:L19) -> 15
A20: Da Zoggin Gitz | B20: 0 | C20: 2 | D20: 4 | E20: 6 | F20: 8 | G20: 3 | H20: 6 | I20: 5 | J20: 4 | K20: 2 | L20: 1 | M20: =SUM(B20:L20) -> 41
A21: Orkly Ducklingz | B21: 0 | C21: 2 | D21: 2 | E21: 1 | F21: 2 | G21: 3 | H21: 3 | I21: 2 | J21: 2 | K21: 2 | L21: 1 | M21: =SUM(B21:L21) -> 20
A22: Weird Outcasts | B22: 0 | C22: 1 | D22: 2 | E22: 5 | F22: 4 | G22: 4 | H22: 3 | I22: 1 | J22: 3 | K22: 2 | L22: 1 | M22: =SUM(B22:L22) -> 26
A23: Mighty UnderCheesers | B23: 0 | C23: 2 | D23: 2 | E23: 1 | F23: 5 | G23: 3 | H23: 5 | I23: 2 | J23: 2 | K23: 4 | L23: 3 | M23: =SUM(B23:L23) -> 29
A24: Cangurus | B24: 1 | C24: 0 | D24: 2 | E24: 4 | F24: 4 | G24: 1 | H24: 2 | I24: 4 | J24: 0 | K24: 2 | L24: 0 | M24: =SUM(B24:L24) -> 20
A25: TOTAALS | B25: =SUM(B17:B24) -> 2 | C25: =SUM(C17:C24) -> 11 | D25: =SUM(D17:D24) -> 16 | E25: =SUM(E17:E24) -> 23 | F25: =SUM(F17:F24) -> 34 | G25: =SUM(G17:G24) -> 27 | H25: =SUM(H17:H24) -> 25 | I25: =SUM(I17:I24) -> 24 | ... L25: =SUM(L17:L24) -> 6 | M25: =SUM(B25:L25) -> 201
B26: =(B25/$M25)*100 -> 0.99502488 | C26: =(C25/$M25)*100 -> 5.4726368 | D26: =(D25/$M25)*100 -> 7.960199 | E26: =(E25/$M25)*100 -> 11.442786 | F26: =(F25/$M25)*100 -> 16.915423 | G26: =(G25/$M25)*100 -> 13.432836 | H26: =(H25/$M25)*100 -> 12.437811 | I26: =(I25/$M25)*100 -> 11.940299 | ... L26: =(L25/$M25)*100 -> 2.9850746 | M26: =2*B25+3*C25+4*D25+5*E25+6*F25+7*G25+8*H25+9*I25+10*J25+11*K25+12*L25 -> 1442
A28: Block Dice
A29: Match Vs | B29: Skull | C29: Both Down | D29: Push | E29: Push | F29: Pow/push | G29: POW | M29: Totaal Dice Rolled Per Match | N29: Combined With Opponent
A30: Pinewood Carrions | B30: 2 | C30: 3 | D30: 7 | E30: 6 | F30: 12 | G30: 6 | M30: =SUM(B30:G30) -> 36
A31: Team Shrek | B31: 8 | C31: 12 | D31: 8 | E31: 7 | F31: 6 | G31: 10 | M31: =SUM(B31:G31) -> 51
A32: SuchDodge | B32: 12 | C32: 11 | D32: 6 | E32: 5 | F32: 9 | G32: 8 | M32: =SUM(B32:G32) -> 51
A33: Da Zoggin Gitz | B33: 8 | C33: 8 | D33: 12 | E33: 11 | F33: 16 | G33: 13 | M33: =SUM(B33:G33) -> 68
A34: Orkly Ducklingz | B34: 10 | C34: 7 | D34: 11 | E34: 11 | F34: 7 | G34: 10 | M34: =SUM(B34:G34) -> 56
A35: Weird Outcasts | B35: 16 | C35: 9 | D35: 11 | E35: 10 | F35: 5 | G35: 10 | M35: =SUM(B35:G35) -> 61
A36: Mighty UnderCheesers | B36: 13 | C36: 9 | D36: 10 | E36: 10 | F36: 7 | G36: 11 | M36: =SUM(B36:G36) -> 60
A37: Cangurus | B37: 13 | C37: 5 | D37: 11 | E37: 10 | F37: 10 | G37: 8 | M37: =SUM(B37:G37) -> 57
A38: TOTAALS | B38: =SUM(B30:B37) -> 82 | C38: =SUM(C30:C37) -> 64 | D38: =SUM(D30:D37) -> 76 | E38: =SUM(E30:E37) -> 70 | F38: =SUM(F30:F37) -> 72 | G38: =SUM(G30:G37) -> 76 | M38: =SUM(B38:G38) -> 440
B39: =(B38/$M38)*100 -> 18.636364 | C39: =(C38/$M38)*100 -> 14.545455 | D39: =(D38/$M38)*100 -> 17.272727 | E39: =(E38/$M38)*100 -> 15.909091 | F39: =(F38/$M38)*100 -> 16.363636 | G39: =(G38/$M38)*100 -> 17.272727 | M39: =((B38*1)+(C38*2)+(D38*3)+E38*4+(F38*5)+(G38*6)) -> 1534

Sheet Weird Outcasts
A1: Cumulative Dice Rolls for season 3 | B1: Weird Outcasts
A2: D6
A3: Match Vs | B3: I | C3: II | D3: III | E3: IV | F3: V | G3: VI | M3: Totaal Dice Rolled Per Match | N3: Combined With Opponent
A4: Pinewood Carrions | B4: 10 | C4: 5 | D4: 14 | E4: 8 | F4: 4 | G4: 9 | M4: =SUM(B4:G4) -> 50
A5: Team Shrek | B5: 10 | C5: 7 | D5: 7 | E5: 11 | F5: 2 | G5: 9 | M5: =SUM(B5:G5) -> 46
A6: SuchDodge | B6: 0 | C6: 7 | D6: 5 | E6: 6 | F6: 4 | G6: 6 | M6: =SUM(B6:G6) -> 28
A7: Da Zoggin Gitz | B7: 2 | C7: 6 | D7: 2 | E7: 2 | F7: 5 | G7: 4 | M7: =SUM(B7:G7) -> 21
A8: Larger & Lime | B8: 4 | C8: 4 | D8: 6 | E8: 2 | F8: 3 | G8: 3 | M8: =SUM(B8:G8) -> 22
A9: Orkly Ducklingz | B9: 3 | C9: 2 | D9: 1 | E9: 2 | F9: 4 | G9: 5 | M9: =SUM(B9:G9) -> 17
A10: Mighty UnderCheesers | B10: 5 | C10: 4 | D10: 3 | E10: 4 | F10: 4 | G10: 4 | M10: =SUM(B10:G10) -> 24
A11: Cangurus | B11: 15 | C11: 4 | D11: 3 | E11: 6 | F11: 8 | G11: 6 | M11: =SUM(B11:G11) -> 42
A12: TOTAALS | B12: =SUM(B4:B11) -> 49 | C12: =SUM(C4:C11) -> 39 | D12: =SUM(D4:D11) -> 41 | E12: =SUM(E4:E11) -> 41 | F12: =SUM(F4:F11) -> 34 | G12: =SUM(G4:G11) -> 46 | M12: =SUM(B12:G12) -> 250
B13: =(B12/$M12)*100 -> 19.6 | C13: =(C12/$M12)*100 -> 15.6 | D13: =(D12/$M12)*100 -> 16.4 | E13: =(E12/$M12)*100 -> 16.4 | F13: =(F12/$M12)*100 -> 13.6 | G13: =(G12/$M12)*100 -> 18.4 | M13: =((B12*1)+(C12*2)+(D12*3)+E12*4+(F12*5)+(G12*6)) -> 860
A15: 2D6
A16: Match Vs | B16: II | C16: III | D16: IV | E16: V | F16: VI | G16: VII | H16: VIII | I16: IX | J16: X | K16: XI | L16: XII | M16: Totaal Dice Rolled Per Match | N16: Combined With Opponent
A17: Pinewood Carrions | B17: 0 | C17: 3 | D17: 5 | E17: 7 | F17: 10 | G17: 13 | H17: 6 | I17: 3 | J17: 4 | K17: 3 | L17: 2 | M17: =SUM(B17:L17) -> 56
A18: Team Shrek | B18: 2 | C18: 4 | D18: 5 | E18: 2 | F18: 7 | G18: 13 | H18: 12 | I18: 6 | J18: 2 | K18: 4 | L18: 1 | M18: =SUM(B18:L18) -> 58
A19: SuchDodge | B19: 2 | C19: 2 | D19: 6 | E19: 1 | F19: 6 | G19: 9 | H19: 8 | I19: 4 | J19: 6 | K19: 5 | L19: 2 | M19: =SUM(B19:L19) -> 51
A20: Da Zoggin Gitz | B20: 2 | C20: 3 | D20: 3 | E20: 6 | F20: 5 | G20: 10 | H20: 4 | I20: 4 | J20: 4 | K20: 0 | L20: 1 | M20: =SUM(B20:L20) -> 42
A21: Larger & Lime | B21: 4 | C21: 3 | D21: 2 | E21: 2 | F21: 4 | G21: 11 | H21: 4 | I21: 6 | J21: 2 | K21: 3 | L21: 2 | M21: =SUM(B21:L21) -> 43
A22: Orkly Ducklingz | B22: 4 | C22: 5 | D22: 5 | E22: 9 | F22: 3 | G22: 10 | H22: 7 | I22: 7 | J22: 3 | K22: 4 | L22: 1 | M22: =SUM(B22:L22) -> 58
A23: Mighty UnderCheesers | B23: 3 | C23: 3 | D23: 5 | E23: 0 | F23: 3 | G23: 9 | H23: 3 | I23: 7 | J23: 5 | K23: 4 | L23: 3 | M23: =SUM(B23:L23) -> 45
A24: Cangurus | B24: 3 | C24: 3 | D24: 4 | E24: 4 | F24: 5 | G24: 14 | H24: 4 | I24: 1 | J24: 6 | K24: 4 | L24: 0 | M24: =SUM(B24:L24) -> 48
A25: TOTAALS | B25: =SUM(B17:B24) -> 20 | C25: =SUM(C17:C24) -> 26 | D25: =SUM(D17:D24) -> 35 | E25: =SUM(E17:E24) -> 31 | F25: =SUM(F17:F24) -> 43 | G25: =SUM(G17:G24) -> 89 | H25: =SUM(H17:H24) -> 48 | I25: =SUM(I17:I24) -> 38 | ... L25: =SUM(L17:L24) -> 12 | M25: =SUM(B25:L25) -> 401
B26: =(B25/$M25)*100 -> 4.9875312 | C26: =(C25/$M25)*100 -> 6.4837905 | D26: =(D25/$M25)*100 -> 8.7281796 | E26: =(E25/$M25)*100 -> 7.7306733 | F26: =(F25/$M25)*100 -> 10.723192 | G26: =(G25/$M25)*100 -> 22.194514 | H26: =(H25/$M25)*100 -> 11.970075 | I26: =(I25/$M25)*100 -> 9.4763092 | ... L26: =(L25/$M25)*100 -> 2.9925187 | M26: =2*B25+3*C25+4*D25+5*E25+6*F25+7*G25+8*H25+9*I25+10*J25+11*K25+12*L25 -> 2781
A28: Block Dice
A29: Match Vs | B29: Skull | C29: Both Down | D29: Push | E29: Push | F29: Pow/push | G29: POW | M29: Totaal Dice Rolled Per Match | N29: Combined With Opponent
A30: Pinewood Carrions | B30: 14 | C30: 11 | D30: 17 | E30: 16 | F30: 21 | G30: 17 | M30: =SUM(B30:G30) -> 96
A31: Team Shrek | B31: 11 | C31: 16 | D31: 11 | E31: 11 | F31: 17 | G31: 14 | M31: =SUM(B31:G31) -> 80
A32: SuchDodge | B32: 19 | C32: 19 | D32: 18 | E32: 17 | F32: 18 | G32: 23 | M32: =SUM(B32:G32) -> 114
A33: Da Zoggin Gitz | B33: 14 | C33: 17 | D33: 19 | E33: 18 | F33: 12 | G33: 18 | M33: =SUM(B33:G33) -> 98
A34: Larger & Lime | B34: 21 | C34: 24 | D34: 12 | E34: 12 | F34: 16 | G34: 14 | M34: =SUM(B34:G34) -> 99
A35: Orkly Ducklingz | B35: 16 | C35: 17 | D35: 16 | E35: 15 | F35: 23 | G35: 24 | M35: =SUM(B35:G35) -> 111
A36: Mighty UnderCheesers | B36: 24 | C36: 11 | D36: 17 | E36: 17 | F36: 14 | G36: 16 | M36: =SUM(B36:G36) -> 99
A37: Cangurus | B37: 19 | C37: 17 | D37: 17 | E37: 16 | F37: 15 | G37: 16 | M37: =SUM(B37:G37) -> 100
A38: TOTAALS | B38: =SUM(B30:B37) -> 138 | C38: =SUM(C30:C37) -> 132 | D38: =SUM(D30:D37) -> 127 | E38: =SUM(E30:E37) -> 122 | F38: =SUM(F30:F37) -> 136 | G38: =SUM(G30:G37) -> 142 | M38: =SUM(B38:G38) -> 797
B39: =(B38/$M38)*100 -> 17.314931 | C39: =(C38/$M38)*100 -> 16.562108 | D39: =(D38/$M38)*100 -> 15.934755 | E39: =(E38/$M38)*100 -> 15.307403 | F39: =(F38/$M38)*100 -> 17.06399 | G39: =(G38/$M38)*100 -> 17.816813 | M39: =((B38*1)+(C38*2)+(D38*3)+E38*4+(F38*5)+(G38*6)) -> 2803

Sheet Mighty UnderCheesers
A1: Cumulative Dice Rolls for season 3 | B1: Mighty UnderCheesers
A2: D6
A3: Match Vs | B3: I | C3: II | D3: III | E3: IV | F3: V | G3: VI | M3: Totaal Dice Rolled Per Match | N3: Combined With Opponent
A4: Pinewood Carrions | B4: 15 | C4: 10 | D4: 10 | E4: 10 | F4: 9 | G4: 12 | M4: =SUM(B4:G4) -> 66
A5: Team Shrek | B5: 9 | C5: 7 | D5: 6 | E5: 7 | F5: 6 | G5: 6 | M5: =SUM(B5:G5) -> 41
A6: SuchDodge | B6: 7 | C6: 9 | D6: 10 | E6: 2 | F6: 4 | G6: 9 | M6: =SUM(B6:G6) -> 41
A7: Da Zoggin Gitz | B7: 4 | C7: 7 | D7: 10 | E7: 7 | F7: 4 | G7: 6 | M7: =SUM(B7:G7) -> 38
A8: Larger & Lime | B8: 4 | C8: 11 | D8: 3 | E8: 6 | F8: 3 | G8: 5 | M8: =SUM(B8:G8) -> 32
A9: Weird Outcasts | B9: 12 | C9: 13 | D9: 6 | E9: 12 | F9: 6 | G9: 12 | M9: =SUM(B9:G9) -> 61
A10: Orkly Ducklingz | B10: 8 | C10: 12 | D10: 6 | E10: 8 | F10: 12 | G10: 6 | M10: =SUM(B10:G10) -> 52
A11: Cangurus | B11: 8 | C11: 5 | D11: 14 | E11: 3 | F11: 6 | G11: 13 | M11: =SUM(B11:G11) -> 49
A12: TOTAALS | B12: =SUM(B4:B11) -> 67 | C12: =SUM(C4:C11) -> 74 | D12: =SUM(D4:D11) -> 65 | E12: =SUM(E4:E11) -> 55 | F12: =SUM(F4:F11) -> 50 | G12: =SUM(G4:G11) -> 69 | M12: =SUM(B12:G12) -> 380
B13: =(B12/$M12)*100 -> 17.631579 | C13: =(C12/$M12)*100 -> 19.473684 | D13: =(D12/$M12)*100 -> 17.105263 | E13: =(E12/$M12)*100 -> 14.473684 | F13: =(F12/$M12)*100 -> 13.157895 | G13: =(G12/$M12)*100 -> 18.157895 | M13: =((B12*1)+(C12*2)+(D12*3)+E12*4+(F12*5)+(G12*6)) -> 1294
A15: 2D6
A16: Match Vs | B16: II | C16: III | D16: IV | E16: V | F16: VI | G16: VII | H16: VIII | I16: IX | J16: X | K16: XI | L16: XII | M16: Totaal Dice Rolled Per Match | N16: Combined With Opponent
A17: Pinewood Carrions | B17: 1 | C17: 1 | D17: 6 | E17: 4 | F17: 3 | G17: 4 | H17: 3 | I17: 2 | J17: 3 | K17: 0 | L17: 0 | M17: =SUM(B17:L17) -> 27
A18: Team Shrek | B18: 2 | C18: 2 | D18: 2 | E18: 5 | F18: 6 | G18: 2 | H18: 5 | I18: 5 | J18: 0 | K18: 2 | L18: 1 | M18: =SUM(B18:L18) -> 32
A19: SuchDodge | B19: 0 | C19: 3 | D19: 3 | E19: 7 | F19: 6 | G19: 7 | H19: 3 | I19: 2 | J19: 3 | K19: 1 | L19: 1 | M19: =SUM(B19:L19) -> 36
A20: Da Zoggin Gitz | B20: 0 | C20: 3 | D20: 2 | E20: 0 | F20: 3 | G20: 8 | H20: 6 | I20: 0 | J20: 6 | K20: 0 | L20: 4 | M20: =SUM(B20:L20) -> 32
A21: Larger & Lime | B21: 2 | C21: 8 | D21: 4 | E21: 1 | F21: 3 | G21: 8 | H21: 8 | I21: 7 | J21: 5 | K21: 2 | L21: 2 | M21: =SUM(B21:L21) -> 50
A22: Weird Outcasts | B22: 1 | C22: 1 | D22: 2 | E22: 1 | F22: 6 | G22: 7 | H22: 3 | I22: 4 | J22: 0 | K22: 1 | L22: 0 | M22: =SUM(B22:L22) -> 26
A23: Orkly Ducklingz | B23: 0 | C23: 1 | D23: 1 | E23: 5 | F23: 5 | G23: 3 | H23: 6 | I23: 2 | J23: 2 | K23: 0 | L23: 0 | M23: =SUM(B23:L23) -> 25
A24: Cangurus | B24: 0 | C24: 2 | D24: 4 | E24: 2 | F24: 6 | G24: 12 | H24: 6 | I24: 5 | J24: 1 | K24: 4 | L24: 2 | M24: =SUM(B24:L24) -> 44
A25: TOTAALS | B25: =SUM(B17:B24) -> 6 | C25: =SUM(C17:C24) -> 21 | D25: =SUM(D17:D24) -> 24 | E25: =SUM(E17:E24) -> 25 | F25: =SUM(F17:F24) -> 38 | G25: =SUM(G17:G24) -> 51 | H25: =SUM(H17:H24) -> 40 | I25: =SUM(I17:I24) -> 27 | ... L25: =SUM(L17:L24) -> 10 | M25: =SUM(B25:L25) -> 272
B26: =(B25/$M25)*100 -> 2.2058824 | C26: =(C25/$M25)*100 -> 7.7205882 | D26: =(D25/$M25)*100 -> 8.8235294 | E26: =(E25/$M25)*100 -> 9.1911765 | F26: =(F25/$M25)*100 -> 13.970588 | G26: =(G25/$M25)*100 -> 18.75 | H26: =(H25/$M25)*100 -> 14.705882 | I26: =(I25/$M25)*100 -> 9.9264706 | ... L26: =(L25/$M25)*100 -> 3.6764706 | M26: =2*B25+3*C25+4*D25+5*E25+6*F25+7*G25+8*H25+9*I25+10*J25+11*K25+12*L25 -> 1874
A28: Block Dice
A29: Match Vs | B29: Skull | C29: Both Down | D29: Push | E29: Push | F29: Pow/push | G29: POW | M29: Totaal Dice Rolled Per Match | N29: Combined With Opponent
A30: Pinewood Carrions | B30: 7 | C30: 8 | D30: 8 | E30: 7 | F30: 11 | G30: 13 | M30: =SUM(B30:G30) -> 54
A31: Team Shrek | B31: 18 | C31: 0 | D31: 13 | E31: 12 | F31: 9 | G31: 7 | M31: =SUM(B31:G31) -> 59
A32: SuchDodge | B32: 8 | C32: 12 | D32: 8 | E32: 7 | F32: 11 | G32: 7 | M32: =SUM(B32:G32) -> 53
A33: Da Zoggin Gitz | B33: 11 | C33: 9 | D33: 8 | E33: 7 | F33: 4 | G33: 13 | M33: =SUM(B33:G33) -> 52
A34: Larger & Lime | B34: 14 | C34: 10 | D34: 13 | E34: 13 | F34: 8 | G34: 10 | M34: =SUM(B34:G34) -> 68
A35: Weird Outcasts | B35: 6 | C35: 13 | D35: 9 | E35: 8 | F35: 9 | G35: 8 | M35: =SUM(B35:G35) -> 53
A36: Orkly Ducklingz | B36: 14 | C36: 2 | D36: 6 | E36: 6 | F36: 10 | G36: 8 | M36: =SUM(B36:G36) -> 46
A37: Cangurus | B37: 7 | C37: 8 | D37: 14 | E37: 14 | F37: 12 | G37: 15 | M37: =SUM(B37:G37) -> 70
A38: TOTAALS | B38: =SUM(B30:B37) -> 85 | C38: =SUM(C30:C37) -> 62 | D38: =SUM(D30:D37) -> 79 | E38: =SUM(E30:E37) -> 74 | F38: =SUM(F30:F37) -> 74 | G38: =SUM(G30:G37) -> 81 | M38: =SUM(B38:G38) -> 455
B39: =(B38/$M38)*100 -> 18.681319 | C39: =(C38/$M38)*100 -> 13.626374 | D39: =(D38/$M38)*100 -> 17.362637 | E39: =(E38/$M38)*100 -> 16.263736 | F39: =(F38/$M38)*100 -> 16.263736 | G39: =(G38/$M38)*100 -> 17.802198 | M39: =((B38*1)+(C38*2)+(D38*3)+E38*4+(F38*5)+(G38*6)) -> 1598

Sheet Cangurus
A1: Cumulative Dice Rolls for season 3 | B1: Cangurus
A2: D6
A3: Match Vs | B3: I | C3: II | D3: III | E3: IV | F3: V | G3: VI | M3: Totaal Dice Rolled Per Match | N3: Combined With Opponent
A4: Pinewood Carrions | B4: 5 | C4: 2 | D4: 5 | E4: 5 | F4: 4 | G4: 6 | M4: =SUM(B4:G4) -> 27
A5: Team Shrek | B5: 9 | C5: 7 | D5: 17 | E5: 6 | F5: 4 | G5: 5 | M5: =SUM(B5:G5) -> 48
A6: SuchDodge | B6: 7 | C6: 8 | D6: 4 | E6: 6 | F6: 3 | G6: 5 | M6: =SUM(B6:G6) -> 33
A7: Da Zoggin Gitz | B7: 8 | C7: 10 | D7: 13 | E7: 9 | F7: 5 | G7: 14 | M7: =SUM(B7:G7) -> 59
A8: Larger & Lime | B8: 4 | C8: 4 | D8: 7 | E8: 3 | F8: 3 | G8: 5 | M8: =SUM(B8:G8) -> 26
A9: Weird Outcasts | B9: 8 | C9: 12 | D9: 8 | E9: 13 | F9: 7 | G9: 14 | M9: =SUM(B9:G9) -> 62
A10: Mighty UnderCheesers | B10: 13 | C10: 9 | D10: 8 | E10: 10 | F10: 9 | G10: 9 | M10: =SUM(B10:G10) -> 58
A11: Orkly Ducklingz | B11: 8 | C11: 8 | D11: 10 | E11: 7 | F11: 10 | G11: 14 | M11: =SUM(B11:G11) -> 57
A12: TOTAALS | B12: =SUM(B4:B11) -> 62 | C12: =SUM(C4:C11) -> 60 | D12: =SUM(D4:D11) -> 72 | E12: =SUM(E4:E11) -> 59 | F12: =SUM(F4:F11) -> 45 | G12: =SUM(G4:G11) -> 72 | M12: =SUM(B12:G12) -> 370
B13: =(B12/$M12)*100 -> 16.756757 | C13: =(C12/$M12)*100 -> 16.216216 | D13: =(D12/$M12)*100 -> 19.459459 | E13: =(E12/$M12)*100 -> 15.945946 | F13: =(F12/$M12)*100 -> 12.162162 | G13: =(G12/$M12)*100 -> 19.459459 | M13: =((B12*1)+(C12*2)+(D12*3)+E12*4+(F12*5)+(G12*6)) -> 1291
A15: 2D6
A16: Match Vs | B16: II | C16: III | D16: IV | E16: V | F16: VI | G16: VII | H16: VIII | I16: IX | J16: X | K16: XI | L16: XII | M16: Totaal Dice Rolled Per Match | N16: Combined With Opponent
A17: Pinewood Carrions | B17: 0 | C17: 1 | D17: 3 | E17: 2 | F17: 5 | G17: 5 | H17: 8 | I17: 5 | J17: 4 | K17: 2 | L17: 0 | M17: =SUM(B17:L17) -> 35
A18: Team Shrek | B18: 3 | C18: 0 | D18: 1 | E18: 6 | F18: 4 | G18: 9 | H18: 4 | I18: 4 | J18: 4 | K18: 1 | L18: 1 | M18: =SUM(B18:L18) -> 37
A19: SuchDodge | B19: 0 | C19: 1 | D19: 1 | E19: 3 | F19: 3 | G19: 3 | H19: 1 | I19: 4 | J19: 3 | K19: 3 | L19: 0 | M19: =SUM(B19:L19) -> 22
A20: Da Zoggin Gitz | B20: 1 | C20: 4 | D20: 1 | E20: 4 | F20: 5 | G20: 7 | H20: 9 | I20: 6 | J20: 2 | K20: 6 | L20: 3 | M20: =SUM(B20:L20) -> 48
A21: Larger & Lime | B21: 1 | C21: 2 | D21: 3 | E21: 7 | F21: 6 | G21: 9 | H21: 7 | I21: 7 | J21: 3 | K21: 11 | L21: 0 | M21: =SUM(B21:L21) -> 56
A22: Weird Outcasts | B22: 0 | C22: 3 | D22: 1 | E22: 0 | F22: 2 | G22: 3 | H22: 3 | I22: 0 | J22: 1 | K22: 1 | L22: 0 | M22: =SUM(B22:L22) -> 14
A23: Mighty UnderCheesers | B23: 0 | C23: 2 | D23: 2 | E23: 4 | F23: 11 | G23: 7 | H23: 8 | I23: 3 | J23: 2 | K23: 2 | L23: 0 | M23: =SUM(B23:L23) -> 41
A24: Orkly Ducklingz | B24: 0 | C24: 1 | D24: 1 | E24: 2 | F24: 2 | G24: 3 | H24: 0 | I24: 1 | J24: 0 | K24: 1 | L24: 1 | M24: =SUM(B24:L24) -> 12
A25: TOTAALS | B25: =SUM(B17:B24) -> 5 | C25: =SUM(C17:C24) -> 14 | D25: =SUM(D17:D24) -> 13 | E25: =SUM(E17:E24) -> 28 | F25: =SUM(F17:F24) -> 38 | G25: =SUM(G17:G24) -> 46 | H25: =SUM(H17:H24) -> 40 | I25: =SUM(I17:I24) -> 30 | ... L25: =SUM(L17:L24) -> 5 | M25: =SUM(B25:L25) -> 265
B26: =(B25/$M25)*100 -> 1.8867925 | C26: =(C25/$M25)*100 -> 5.2830189 | D26: =(D25/$M25)*100 -> 4.9056604 | E26: =(E25/$M25)*100 -> 10.566038 | F26: =(F25/$M25)*100 -> 14.339623 | G26: =(G25/$M25)*100 -> 17.358491 | H26: =(H25/$M25)*100 -> 15.09434 | I26: =(I25/$M25)*100 -> 11.320755 | ... L26: =(L25/$M25)*100 -> 1.8867925 | M26: =2*B25+3*C25+4*D25+5*E25+6*F25+7*G25+8*H25+9*I25+10*J25+11*K25+12*L25 -> 1931
A28: Block Dice
A29: Match Vs | B29: Skull | C29: Both Down | D29: Push | E29: Push | F29: Pow/push | G29: POW | M29: Totaal Dice Rolled Per Match | N29: Combined With Opponent
A30: Pinewood Carrions | B30: 6 | C30: 12 | D30: 11 | E30: 11 | F30: 5 | G30: 13 | M30: =SUM(B30:G30) -> 58
A31: Team Shrek | B31: 12 | C31: 18 | D31: 17 | E31: 17 | F31: 15 | G31: 17 | M31: =SUM(B31:G31) -> 96
A32: SuchDodge | B32: 12 | C32: 9 | D32: 9 | E32: 9 | F32: 8 | G32: 7 | M32: =SUM(B32:G32) -> 54
A33: Da Zoggin Gitz | B33: 12 | C33: 18 | D33: 21 | E33: 21 | F33: 16 | G33: 12 | M33: =SUM(B33:G33) -> 100
A34: Larger & Lime | B34: 17 | C34: 18 | D34: 15 | E34: 15 | F34: 14 | G34: 12 | M34: =SUM(B34:G34) -> 91
A35: Weird Outcasts | B35: 6 | C35: 3 | D35: 4 | E35: 3 | F35: 8 | G35: 5 | M35: =SUM(B35:G35) -> 29
A36: Mighty UnderCheesers | B36: 10 | C36: 14 | D36: 8 | E36: 8 | F36: 17 | G36: 17 | M36: =SUM(B36:G36) -> 74
A37: Orkly Ducklingz | B37: 2 | C37: 5 | D37: 4 | E37: 4 | F37: 5 | G37: 4 | M37: =SUM(B37:G37) -> 24
A38: TOTAALS | B38: =SUM(B30:B37) -> 77 | C38: =SUM(C30:C37) -> 97 | D38: =SUM(D30:D37) -> 89 | E38: =SUM(E30:E37) -> 88 | F38: =SUM(F30:F37) -> 88 | G38: =SUM(G30:G37) -> 87 | M38: =SUM(B38:G38) -> 526
B39: =(B38/$M38)*100 -> 14.638783 | C39: =(C38/$M38)*100 -> 18.441065 | D39: =(D38/$M38)*100 -> 16.920152 | E39: =(E38/$M38)*100 -> 16.730038 | F39: =(F38/$M38)*100 -> 16.730038 | G39: =(G38/$M38)*100 -> 16.539924 | M39: =((B38*1)+(C38*2)+(D38*3)+E38*4+(F38*5)+(G38*6)) -> 1852

Sheet D6 Grand Rolls
B45: =#N/A -> #N/A

Sheet 2D6 Grand Rolls

Sheet Block Dice Grands Rolls

Sheet Expected Results
A1: Expected Results | J1: 0.027777778 | K1: 0.055555556 | L1: 0.083333333 | M1: 0.11111111 | N1: 0.13888889 | O1: 0.16666667 | P1: 0.13888889 | Q1: 0.11111111 | R1: 0.083333333 | S1: 0.055555556 | T1: 0.027777778
A2: d6 | I2: 2d6
A3: Rolls | B3: I | C3: II | D3: III | E3: IV | F3: V | G3: VI | I3: Rolls | J3: II | K3: III | L3: IV | M3: V | N3: VI | O3: VII | P3: VIII | Q3: IX | R3: X | S3: XI | T3: XII | V3: 2d6 Probability
A4: 1 | B4: =A4/6 -> 0.16666667 | C4: 0.16666667 | D4: 0.16666667 | E4: 0.16666667 | F4: 0.16666667 | G4: 0.16666667 | I4: 1 | J4: =I4*$J$1 -> 0.027777778 | K4: =I4*$K$1 -> 0.055555556 | L4: =I4*$L$1 -> 0.083333333 | M4: =I4*$M$1 -> 0.11111111 | N4: =I4*$N$1 -> 0.13888889 | O4: =I4*$O$1 -> 0.16666667 | P4: =I4*$P$1 -> 0.13888889 | Q4: =I4*$Q$1 -> 0.11111111 | R4: =I4*$R$1 -> 0.083333333 | S4: =I4*$S$1 -> 0.055555556 | T4: =I4*$T$1 -> 0.027777778 | V4: Roll | W4: Chance in 36 | X4: prob
A5: 2 | B5: =A5/6 -> 0.33333333 | C5: 0.33333333 | D5: 0.33333333 | E5: 0.33333333 | F5: 0.33333333 | G5: 0.33333333 | I5: 2 | J5: =I5*$J$1 -> 0.055555556 | K5: =I5*$K$1 -> 0.11111111 | L5: =I5*$L$1 -> 0.16666667 | M5: =I5*$M$1 -> 0.22222222 | N5: =I5*$N$1 -> 0.27777778 | O5: =I5*$O$1 -> 0.33333333 | P5: =I5*$P$1 -> 0.27777778 | Q5: =I5*$Q$1 -> 0.22222222 | R5: =I5*$R$1 -> 0.16666667 | S5: =I5*$S$1 -> 0.11111111 | T5: =I5*$T$1 -> 0.055555556 | V5: 2 | W5: 1 | X5: =1/36 -> 0.027777778 | Y5: 0.027777778
A6: 3 | B6: =A6/6 -> 0.5 | C6: 0.5 | D6: 0.5 | E6: 0.5 | F6: 0.5 | G6: 0.5 | I6: 3 | J6: =I6*$J$1 -> 0.083333333 | K6: =I6*$K$1 -> 0.16666667 | L6: =I6*$L$1 -> 0.25 | M6: =I6*$M$1 -> 0.33333333 | N6: =I6*$N$1 -> 0.41666667 | O6: =I6*$O$1 -> 0.5 | P6: =I6*$P$1 -> 0.41666667 | Q6: =I6*$Q$1 -> 0.33333333 | R6: =I6*$R$1 -> 0.25 | S6: =I6*$S$1 -> 0.16666667 | T6: =I6*$T$1 -> 0.083333333 | V6: 3 | W6: 2 | X6: =2/36 -> 0.055555556 | Y6: 0.055555556
A7: 4 | B7: =A7/6 -> 0.66666667 | C7: 0.66666667 | D7: 0.66666667 | E7: 0.66666667 | F7: 0.66666667 | G7: 0.66666667 | I7: 4 | J7: =I7*$J$1 -> 0.11111111 | K7: =I7*$K$1 -> 0.22222222 | L7: =I7*$L$1 -> 0.33333333 | M7: =I7*$M$1 -> 0.44444444 | N7: =I7*$N$1 -> 0.55555556 | O7: =I7*$O$1 -> 0.66666667 | P7: =I7*$P$1 -> 0.55555556 | Q7: =I7*$Q$1 -> 0.44444444 | R7: =I7*$R$1 -> 0.33333333 | S7: =I7*$S$1 -> 0.22222222 | T7: =I7*$T$1 -> 0.11111111 | V7: 4 | W7: 3 | X7: =W7/36 -> 0.083333333 | Y7: 0.083333333
A8: 5 | B8: =A8/6 -> 0.83333333 | C8: 0.83333333 | D8: 0.83333333 | E8: 0.83333333 | F8: 0.83333333 | G8: 0.83333333 | I8: 5 | J8: =I8*$J$1 -> 0.13888889 | K8: =I8*$K$1 -> 0.27777778 | L8: =I8*$L$1 -> 0.41666667 | M8: =I8*$M$1 -> 0.55555556 | N8: =I8*$N$1 -> 0.69444444 | O8: =I8*$O$1 -> 0.83333333 | P8: =I8*$P$1 -> 0.69444444 | Q8: =I8*$Q$1 -> 0.55555556 | R8: =I8*$R$1 -> 0.41666667 | S8: =I8*$S$1 -> 0.27777778 | T8: =I8*$T$1 -> 0.13888889 | V8: 5 | W8: 4 | X8: =W8/36 -> 0.11111111 | Y8: 0.11111111
A9: 6 | B9: =A9/6 -> 1 | C9: 1 | D9: 1 | E9: 1 | F9: 1 | G9: 1 | I9: 6 | J9: =I9*$J$1 -> 0.16666667 | K9: =I9*$K$1 -> 0.33333333 | L9: =I9*$L$1 -> 0.5 | M9: =I9*$M$1 -> 0.66666667 | N9: =I9*$N$1 -> 0.83333333 | O9: =I9*$O$1 -> 1 | P9: =I9*$P$1 -> 0.83333333 | Q9: =I9*$Q$1 -> 0.66666667 | R9: =I9*$R$1 -> 0.5 | S9: =I9*$S$1 -> 0.33333333 | T9: =I9*$T$1 -> 0.16666667 | V9: 6 | W9: 5 | X9: =W9/36 -> 0.13888889 | Y9: 0.13888889
A10: 7 | B10: =A10/6 -> 1.1666667 | C10: 1.1666667 | D10: 1.1666667 | E10: 1.1666667 | F10: 1.1666667 | G10: 1.1666667 | I10: 7 | J10: =I10*$J$1 -> 0.19444444 | K10: =I10*$K$1 -> 0.38888889 | L10: =I10*$L$1 -> 0.58333333 | M10: =I10*$M$1 -> 0.77777778 | N10: =I10*$N$1 -> 0.97222222 | O10: =I10*$O$1 -> 1.1666667 | P10: =I10*$P$1 -> 0.97222222 | Q10: =I10*$Q$1 -> 0.77777778 | R10: =I10*$R$1 -> 0.58333333 | S10: =I10*$S$1 -> 0.38888889 | T10: =I10*$T$1 -> 0.19444444 | V10: 7 | W10: 6 | X10: =W10/36 -> 0.16666667 | Y10: 0.16666667
A11: 8 | B11: =A11/6 -> 1.3333333 | C11: 1.3333333 | D11: 1.3333333 | E11: 1.3333333 | F11: 1.3333333 | G11: 1.3333333 | I11: 8 | J11: =I11*$J$1 -> 0.22222222 | K11: =I11*$K$1 -> 0.44444444 | L11: =I11*$L$1 -> 0.66666667 | M11: =I11*$M$1 -> 0.88888889 | N11: =I11*$N$1 -> 1.1111111 | O11: =I11*$O$1 -> 1.3333333 | P11: =I11*$P$1 -> 1.1111111 | Q11: =I11*$Q$1 -> 0.88888889 | R11: =I11*$R$1 -> 0.66666667 | S11: =I11*$S$1 -> 0.44444444 | T11: =I11*$T$1 -> 0.22222222 | V11: 8 | W11: 5 | X11: =W11/36 -> 0.13888889 | Y11: 0.13888889
A12: 9 | B12: =A12/6 -> 1.5 | C12: 1.5 | D12: 1.5 | E12: 1.5 | F12: 1.5 | G12: 1.5 | I12: 9 | J12: =I12*$J$1 -> 0.25 | K12: =I12*$K$1 -> 0.5 | L12: =I12*$L$1 -> 0.75 | M12: =I12*$M$1 -> 1 | N12: =I12*$N$1 -> 1.25 | O12: =I12*$O$1 -> 1.5 | P12: =I12*$P$1 -> 1.25 | Q12: =I12*$Q$1 -> 1 | R12: =I12*$R$1 -> 0.75 | S12: =I12*$S$1 -> 0.5 | T12: =I12*$T$1 -> 0.25 | V12: 9 | W12: 4 | X12: =W12/36 -> 0.11111111 | Y12: 0.11111111
A13: 10 | B13: =A13/6 -> 1.6666667 | C13: 1.6666667 | D13: 1.6666667 | E13: 1.6666667 | F13: 1.6666667 | G13: 1.6666667 | I13: 10 | J13: =I13*$J$1 -> 0.27777778 | K13: =I13*$K$1 -> 0.55555556 | L13: =I13*$L$1 -> 0.83333333 | M13: =I13*$M$1 -> 1.1111111 | N13: =I13*$N$1 -> 1.3888889 | O13: =I13*$O$1 -> 1.6666667 | P13: =I13*$P$1 -> 1.3888889 | Q13: =I13*$Q$1 -> 1.1111111 | R13: =I13*$R$1 -> 0.83333333 | S13: =I13*$S$1 -> 0.55555556 | T13: =I13*$T$1 -> 0.27777778 | V13: 10 | W13: 3 | X13: =W13/36 -> 0.083333333 | Y13: 0.083333333
A14: 11 | B14: =A14/6 -> 1.8333333 | C14: 1.8333333 | D14: 1.8333333 | E14: 1.8333333 | F14: 1.8333333 | G14: 1.8333333 | I14: 11 | J14: =I14*$J$1 -> 0.30555556 | K14: =I14*$K$1 -> 0.61111111 | L14: =I14*$L$1 -> 0.91666667 | M14: =I14*$M$1 -> 1.2222222 | N14: =I14*$N$1 -> 1.5277778 | O14: =I14*$O$1 -> 1.8333333 | P14: =I14*$P$1 -> 1.5277778 | Q14: =I14*$Q$1 -> 1.2222222 | R14: =I14*$R$1 -> 0.91666667 | S14: =I14*$S$1 -> 0.61111111 | T14: =I14*$T$1 -> 0.30555556 | V14: 11 | W14: 2 | X14: =W14/36 -> 0.055555556 | Y14: 0.055555556
A15: 12 | B15: =A15/6 -> 2 | C15: 2 | D15: 2 | E15: 2 | F15: 2 | G15: 2 | I15: 12 | J15: =I15*$J$1 -> 0.33333333 | K15: =I15*$K$1 -> 0.66666667 | L15: =I15*$L$1 -> 1 | M15: =I15*$M$1 -> 1.3333333 | N15: =I15*$N$1 -> 1.6666667 | O15: =I15*$O$1 -> 2 | P15: =I15*$P$1 -> 1.6666667 | Q15: =I15*$Q$1 -> 1.3333333 | R15: =I15*$R$1 -> 1 | S15: =I15*$S$1 -> 0.66666667 | T15: =I15*$T$1 -> 0.33333333 | V15: 12 | W15: 1 | X15: =W15/36 -> 0.027777778 | Y15: 0.027777778
A16: 13 | B16: =A16/6 -> 2.1666667 | C16: 2.1666667 | D16: 2.1666667 | E16: 2.1666667 | F16: 2.1666667 | G16: 2.1666667 | I16: 13 | J16: =I16*$J$1 -> 0.36111111 | K16: =I16*$K$1 -> 0.72222222 | L16: =I16*$L$1 -> 1.0833333 | M16: =I16*$M$1 -> 1.4444444 | N16: =I16*$N$1 -> 1.8055556 | O16: =I16*$O$1 -> 2.1666667 | P16: =I16*$P$1 -> 1.8055556 | Q16: =I16*$Q$1 -> 1.4444444 | R16: =I16*$R$1 -> 1.0833333 | S16: =I16*$S$1 -> 0.72222222 | T16: =I16*$T$1 -> 0.36111111
A17: 14 | B17: =A17/6 -> 2.3333333 | C17: 2.3333333 | D17: 2.3333333 | E17: 2.3333333 | F17: 2.3333333 | G17: 2.3333333 | I17: 14 | J17: =I17*$J$1 -> 0.38888889 | K17: =I17*$K$1 -> 0.77777778 | L17: =I17*$L$1 -> 1.1666667 | M17: =I17*$M$1 -> 1.5555556 | N17: =I17*$N$1 -> 1.9444444 | O17: =I17*$O$1 -> 2.3333333 | P17: =I17*$P$1 -> 1.9444444 | Q17: =I17*$Q$1 -> 1.5555556 | R17: =I17*$R$1 -> 1.1666667 | S17: =I17*$S$1 -> 0.77777778 | T17: =I17*$T$1 -> 0.38888889
A18: 15 | B18: =A18/6 -> 2.5 | C18: 2.5 | D18: 2.5 | E18: 2.5 | F18: 2.5 | G18: 2.5 | I18: 15 | J18: =I18*$J$1 -> 0.41666667 | K18: =I18*$K$1 -> 0.83333333 | L18: =I18*$L$1 -> 1.25 | M18: =I18*$M$1 -> 1.6666667 | N18: =I18*$N$1 -> 2.0833333 | O18: =I18*$O$1 -> 2.5 | P18: =I18*$P$1 -> 2.0833333 | Q18: =I18*$Q$1 -> 1.6666667 | R18: =I18*$R$1 -> 1.25 | S18: =I18*$S$1 -> 0.83333333 | T18: =I18*$T$1 -> 0.41666667
A19: 16 | B19: =A19/6 -> 2.6666667 | C19: 2.6666667 | D19: 2.6666667 | E19: 2.6666667 | F19: 2.6666667 | G19: 2.6666667 | I19: 16 | J19: =I19*$J$1 -> 0.44444444 | K19: =I19*$K$1 -> 0.88888889 | L19: =I19*$L$1 -> 1.3333333 | M19: =I19*$M$1 -> 1.7777778 | N19: =I19*$N$1 -> 2.2222222 | O19: =I19*$O$1 -> 2.6666667 | P19: =I19*$P$1 -> 2.2222222 | Q19: =I19*$Q$1 -> 1.7777778 | R19: =I19*$R$1 -> 1.3333333 | S19: =I19*$S$1 -> 0.88888889 | T19: =I19*$T$1 -> 0.44444444
A20: 17 | B20: =A20/6 -> 2.8333333 | C20: 2.8333333 | D20: 2.8333333 | E20: 2.8333333 | F20: 2.8333333 | G20: 2.8333333 | I20: 17 | J20: =I20*$J$1 -> 0.47222222 | K20: =I20*$K$1 -> 0.94444444 | L20: =I20*$L$1 -> 1.4166667 | M20: =I20*$M$1 -> 1.8888889 | N20: =I20*$N$1 -> 2.3611111 | O20: =I20*$O$1 -> 2.8333333 | P20: =I20*$P$1 -> 2.3611111 | Q20: =I20*$Q$1 -> 1.8888889 | R20: =I20*$R$1 -> 1.4166667 | S20: =I20*$S$1 -> 0.94444444 | T20: =I20*$T$1 -> 0.47222222
A21: 18 | B21: =A21/6 -> 3 | C21: 3 | D21: 3 | E21: 3 | F21: 3 | G21: 3 | I21: 18 | J21: =I21*$J$1 -> 0.5 | K21: =I21*$K$1 -> 1 | L21: =I21*$L$1 -> 1.5 | M21: =I21*$M$1 -> 2 | N21: =I21*$N$1 -> 2.5 | O21: =I21*$O$1 -> 3 | P21: =I21*$P$1 -> 2.5 | Q21: =I21*$Q$1 -> 2 | R21: =I21*$R$1 -> 1.5 | S21: =I21*$S$1 -> 1 | T21: =I21*$T$1 -> 0.5
A22: 19 | B22: =A22/6 -> 3.1666667 | C22: 3.1666667 | D22: 3.1666667 | E22: 3.1666667 | F22: 3.1666667 | G22: 3.1666667 | I22: 19 | J22: =I22*$J$1 -> 0.52777778 | K22: =I22*$K$1 -> 1.0555556 | L22: =I22*$L$1 -> 1.5833333 | M22: =I22*$M$1 -> 2.1111111 | N22: =I22*$N$1 -> 2.6388889 | O22: =I22*$O$1 -> 3.1666667 | P22: =I22*$P$1 -> 2.6388889 | Q22: =I22*$Q$1 -> 2.1111111 | R22: =I22*$R$1 -> 1.5833333 | S22: =I22*$S$1 -> 1.0555556 | T22: =I22*$T$1 -> 0.52777778
A23: 20 | B23: =A23/6 -> 3.3333333 | C23: 3.3333333 | D23: 3.3333333 | E23: 3.3333333 | F23: 3.3333333 | G23: 3.3333333 | I23: 20 | J23: =I23*$J$1 -> 0.55555556 | K23: =I23*$K$1 -> 1.1111111 | L23: =I23*$L$1 -> 1.6666667 | M23: =I23*$M$1 -> 2.2222222 | N23: =I23*$N$1 -> 2.7777778 | O23: =I23*$O$1 -> 3.3333333 | P23: =I23*$P$1 -> 2.7777778 | Q23: =I23*$Q$1 -> 2.2222222 | R23: =I23*$R$1 -> 1.6666667 | S23: =I23*$S$1 -> 1.1111111 | T23: =I23*$T$1 -> 0.55555556
A24: 21 | B24: =A24/6 -> 3.5 | C24: 3.5 | D24: 3.5 | E24: 3.5 | F24: 3.5 | G24: 3.5 | I24: 21 | J24: =I24*$J$1 -> 0.58333333 | K24: =I24*$K$1 -> 1.1666667 | L24: =I24*$L$1 -> 1.75 | M24: =I24*$M$1 -> 2.3333333 | N24: =I24*$N$1 -> 2.9166667 | O24: =I24*$O$1 -> 3.5 | P24: =I24*$P$1 -> 2.9166667 | Q24: =I24*$Q$1 -> 2.3333333 | R24: =I24*$R$1 -> 1.75 | S24: =I24*$S$1 -> 1.1666667 | T24: =I24*$T$1 -> 0.58333333
A25: 22 | B25: =A25/6 -> 3.6666667 | C25: 3.6666667 | D25: 3.6666667 | E25: 3.6666667 | F25: 3.6666667 | G25: 3.6666667 | I25: 22 | J25: =I25*$J$1 -> 0.61111111 | K25: =I25*$K$1 -> 1.2222222 | L25: =I25*$L$1 -> 1.8333333 | M25: =I25*$M$1 -> 2.4444444 | N25: =I25*$N$1 -> 3.0555556 | O25: =I25*$O$1 -> 3.6666667 | P25: =I25*$P$1 -> 3.0555556 | Q25: =I25*$Q$1 -> 2.4444444 | R25: =I25*$R$1 -> 1.8333333 | S25: =I25*$S$1 -> 1.2222222 | T25: =I25*$T$1 -> 0.61111111
A26: 23 | B26: =A26/6 -> 3.8333333 | C26: 3.8333333 | D26: 3.8333333 | E26: 3.8333333 | F26: 3.8333333 | G26: 3.8333333 | I26: 23 | J26: =I26*$J$1 -> 0.63888889 | K26: =I26*$K$1 -> 1.2777778 | L26: =I26*$L$1 -> 1.9166667 | M26: =I26*$M$1 -> 2.5555556 | N26: =I26*$N$1 -> 3.1944444 | O26: =I26*$O$1 -> 3.8333333 | P26: =I26*$P$1 -> 3.1944444 | Q26: =I26*$Q$1 -> 2.5555556 | R26: =I26*$R$1 -> 1.9166667 | S26: =I26*$S$1 -> 1.2777778 | T26: =I26*$T$1 -> 0.63888889
A27: 24 | B27: =A27/6 -> 4 | C27: 4 | D27: 4 | E27: 4 | F27: 4 | G27: 4 | I27: 24 | J27: =I27*$J$1 -> 0.66666667 | K27: =I27*$K$1 -> 1.3333333 | L27: =I27*$L$1 -> 2 | M27: =I27*$M$1 -> 2.6666667 | N27: =I27*$N$1 -> 3.3333333 | O27: =I27*$O$1 -> 4 | P27: =I27*$P$1 -> 3.3333333 | Q27: =I27*$Q$1 -> 2.6666667 | R27: =I27*$R$1 -> 2 | S27: =I27*$S$1 -> 1.3333333 | T27: =I27*$T$1 -> 0.66666667
... A1203: 1200 | B1203: =A1203/6 -> 200 | C1203: 200 | D1203: 200 | E1203: 200 | F1203: 200 | G1203: 200 | I1203: 1200 | J1203: =I1203*$J$1 -> 33.333333 | K1203: =I1203*$K$1 -> 66.666667 | L1203: =I1203*$L$1 -> 100 | M1203: =I1203*$M$1 -> 133.33333 | N1203: =I1203*$N$1 -> 166.66667 | O1203: =I1203*$O$1 -> 200 | P1203: =I1203*$P$1 -> 166.66667 | Q1203: =I1203*$Q$1 -> 133.33333 | R1203: =I1203*$R$1 -> 100 | S1203: =I1203*$S$1 -> 66.666667 | T1203: =I1203*$T$1 -> 33.333333

Sheet Total Chance
B1: Total d6 rolled | C1: totals of d6 | D1: d6 chance | F1: Total 2d6 rolled | G1: total of 2d6 | H1: 2d6 chance | J1: Total block dice rolled | K1: total of block | L1: Block chance | N1: d6*chance | O1: 2d6*chance | P1: block*chance | Q1: total*chances | R1: total dice | S1: CHANCE
A2: Team
A3: Orc | B3: ='Orkly Ducklingz'!M12 -> 250 | C3: ='Orkly Ducklingz'!M13 -> 855 | D3: =C3/(B3*3.5) -> 0.97714286 | F3: ='Orkly Ducklingz'!M25 -> 315 | G3: ='Orkly Ducklingz'!M26 -> 2215 | H3: =G3/(F3*7) -> 1.0045351 | J3: ='Orkly Ducklingz'!M38 -> 647 | K3: ='Orkly Ducklingz'!M39 -> 2177 | L3: =K3/(J3*3.5) -> 0.96136012 | N3: =B3*D3 -> 244.28571 | O3: =F3*H3 -> 316.42857 | P3: =J3*L3 -> 622 | Q3: =N3+O3+P3 -> 1182.7143 | R3: =B3+F3+J3 -> 1212 | S3: =Q3/R3 -> 0.97583687
A4: Khem | B4: ='Pinewood Carrions'!M12 -> 182 | C4: ='Pinewood Carrions'!M13 -> 685 | D4: =C4/(B4*3.5) -> 1.0753532 | F4: ='Pinewood Carrions'!M25 -> 362 | G4: ='Pinewood Carrions'!M26 -> 2505 | H4: =G4/(F4*7) -> 0.98855564 | J4: ='Pinewood Carrions'!M38 -> 683 | K4: ='Pinewood Carrions'!M39 -> 2325 | L4: =K4/(J4*3.5) -> 0.97259987 | N4: =B4*D4 -> 195.71429 | O4: =F4*H4 -> 357.85714 | P4: =J4*L4 -> 664.28571 | Q4: =N4+O4+P4 -> 1217.8571 | R4: =B4+F4+J4 -> 1227 | S4: =Q4/R4 -> 0.99254861
A5: Ogre | B5: ='Team Shrek'!M12 -> 843 | C5: ='Team Shrek'!M13 -> 2874 | D5: =C5/(B5*3.5) -> 0.97407219 | F5: ='Team Shrek'!M25 -> 257 | G5: ='Team Shrek'!M26 -> 1793 | H5: =G5/(F5*7) -> 0.99666481 | J5: ='Team Shrek'!M38 -> 589 | K5: ='Team Shrek'!M39 -> 2050 | L5: =K5/(J5*3.5) -> 0.99442154 | N5: =B5*D5 -> 821.14286 | O5: =F5*H5 -> 256.14286 | P5: =J5*L5 -> 585.71429 | Q5: =N5+O5+P5 -> 1663 | R5: =B5+F5+J5 -> 1689 | S5: =Q5/R5 -> 0.98460628
A6: Amazon | B6: =SuchDodge!M12 -> 445 | C6: =SuchDodge!M13 -> 1560 | D6: =C6/(B6*3.5) -> 1.0016051 | F6: =SuchDodge!M25 -> 216 | G6: =SuchDodge!M26 -> 1505 | H6: =G6/(F6*7) -> 0.99537037 | J6: =SuchDodge!M38 -> 417 | K6: =SuchDodge!M39 -> 1422 | L6: =K6/(J6*3.5) -> 0.97430627 | N6: =B6*D6 -> 445.71429 | O6: =F6*H6 -> 215 | P6: =J6*L6 -> 406.28571 | Q6: =N6+O6+P6 -> 1067 | R6: =B6+F6+J6 -> 1078 | S6: =Q6/R6 -> 0.98979592
A7: Golbin | B7: ='Da Zoggin Gitz'!M12 -> 660 | C7: ='Da Zoggin Gitz'!M13 -> 2287 | D7: =C7/(B7*3.5) -> 0.99004329 | F7: ='Da Zoggin Gitz'!M25 -> 237 | G7: ='Da Zoggin Gitz'!M26 -> 1629 | H7: =G7/(F7*7) -> 0.98191682 | J7: ='Da Zoggin Gitz'!M38 -> 359 | K7: ='Da Zoggin Gitz'!M39 -> 1284 | L7: =K7/(J7*3.5) -> 1.0218862 | N7: =B7*D7 -> 653.42857 | O7: =F7*H7 -> 232.71429 | P7: =J7*L7 -> 366.85714 | Q7: =N7+O7+P7 -> 1253 | R7: =B7+F7+J7 -> 1256 | S7: =Q7/R7 -> 0.99761146
